BEGIN:VCALENDAR
VERSION:2.0
PRODID:-//ArtˈnCo - ECPv6.13.2.1//NONSGML v1.0//EN
CALSCALE:GREGORIAN
METHOD:PUBLISH
X-WR-CALNAME:ArtˈnCo
X-ORIGINAL-URL:https://artnco.org
X-WR-CALDESC:Évènements pour ArtˈnCo
REFRESH-INTERVAL;VALUE=DURATION:PT1H
X-Robots-Tag:noindex
X-PUBLISHED-TTL:PT1H
BEGIN:VTIMEZONE
TZID:Europe/Paris
BEGIN:DAYLIGHT
TZOFFSETFROM:+0100
TZOFFSETTO:+0200
TZNAME:CEST
DTSTART:20250330T010000
END:DAYLIGHT
BEGIN:STANDARD
TZOFFSETFROM:+0200
TZOFFSETTO:+0100
TZNAME:CET
DTSTART:20251026T010000
END:STANDARD
BEGIN:DAYLIGHT
TZOFFSETFROM:+0100
TZOFFSETTO:+0200
TZNAME:CEST
DTSTART:20260329T010000
END:DAYLIGHT
BEGIN:STANDARD
TZOFFSETFROM:+0200
TZOFFSETTO:+0100
TZNAME:CET
DTSTART:20261025T010000
END:STANDARD
END:VTIMEZONE
BEGIN:VEVENT
DTSTART;TZID=Europe/Paris:20251108T140000
DTEND;TZID=Europe/Paris:20251123T190000
DTSTAMP:20260425T213458
CREATED:20251028T153140Z
LAST-MODIFIED:20251028T153140Z
UID:15465-1762610400-1763924400@artnco.org
SUMMARY:Biennale d'Art Ballancourt
DESCRIPTION:La ville de Ballancourt-sur-Essonne a le plaisir d’annoncer l’édition 2025 de sa Biennale d’Art\, un rendez-vous incontournable pour les amateurs de peinture et de sculpture. Du 8 au 23 novembre de 14h à 19h\, cette exposition d’envergure aura 100 artistes et rassemblera plus de 430 œuvres dans un espace d’exposition de 850 m². \nAvec près de 6 500 visiteurs attendus sur 15 jours\, la Biennale est l’occasion de découvrir des talents variés\, d’échanger avec les artistes et de s’immerger dans un univers artistique riche et diversifié. \nInvités d’honneur : Adèle Bessy – peintre et EricVialla\, sculpteur \nPour toute information\, rendez-vous sur https://biennaledart.fr/ ou contactez biennaledart@mairie-ballancourt.fr .
URL:https://artnco.org/event/biennale-dart-ballancourt/
LOCATION:Espace Daniel Salvi\, Rue des Colombes\, Ballancourt-sur-Essonne\, 91610
CATEGORIES:Évènements Artistiques
ATTACH;FMTTYPE=image/jpeg:https://artnco.org/wp-content/uploads/2025/10/Biennale-dArt-Ballancourt.jpg
END:VEVENT
BEGIN:VEVENT
DTSTART;TZID=Europe/Paris:20251108T110000
DTEND;TZID=Europe/Paris:20251116T180000
DTSTAMP:20260425T213458
CREATED:20251003T124250Z
LAST-MODIFIED:20251003T124250Z
UID:15208-1762599600-1763316000@artnco.org
SUMMARY:Traces et Résonances
DESCRIPTION:Chantal Chassat\nNicole Esnault\nNathalie Guérin\nDanielle Pellerin
URL:https://artnco.org/event/traces-et-resonances/
LOCATION:Espace Marcel Tréboit\, 24 Rue Quincampoix\, Maule\, 78580
CATEGORIES:Évènements Artistiques
END:VEVENT
BEGIN:VEVENT
DTSTART;TZID=Europe/Paris:20251107T140000
DTEND;TZID=Europe/Paris:20251116T173000
DTSTAMP:20260425T213458
CREATED:20251029T103335Z
LAST-MODIFIED:20251129T194656Z
UID:15475-1762524000-1763314200@artnco.org
SUMMARY:Salon d'Art Contemporain La Palette - Auvers-sur-Oise
DESCRIPTION:Invités d’honneur : Marianne Le Vexier\, Robert Noël
URL:https://artnco.org/event/salon-dart-contemporain-la-palette-auvers-sur-oise/
LOCATION:Maison de L’Isle\, 50-78 Rue Marcel Martin\, Auvers-sur-Oise\, 95430
CATEGORIES:Évènements Artistiques
ATTACH;FMTTYPE=image/jpeg:https://artnco.org/wp-content/uploads/2025/10/Salon-palette-Auvers.jpg
END:VEVENT
BEGIN:VEVENT
DTSTART;TZID=Europe/Paris:20251107T100000
DTEND;TZID=Europe/Paris:20251115T193000
DTSTAMP:20260425T213458
CREATED:20251030T134949Z
LAST-MODIFIED:20251030T135039Z
UID:15522-1762509600-1763235000@artnco.org
SUMMARY:Quai des Arts
DESCRIPTION:Exposition de peintures par Marc Feist et sculptures par Christian Tell
URL:https://artnco.org/event/quai-des-arts/
LOCATION:Quai des Marques\, 395 Rue du General Leclerc\, Franconville\, 95130
CATEGORIES:Évènements Artistiques
ATTACH;FMTTYPE=image/jpeg:https://artnco.org/wp-content/uploads/2025/10/Quai-des-Arts.jpg
END:VEVENT
BEGIN:VEVENT
DTSTART;TZID=Europe/Paris:20251106T120000
DTEND;TZID=Europe/Paris:20251220T220000
DTSTAMP:20260425T213458
CREATED:20251108T122448Z
LAST-MODIFIED:20251110T131821Z
UID:15626-1762430400-1766268000@artnco.org
SUMMARY:Expo Tatiana Oléa
DESCRIPTION:Le restaurant Innovizza à Fontenay-aux-Roses\, accueille une partie de mes œuvres textiles.\nDe mardi à samedi 12h-14h et 18h-22h
URL:https://artnco.org/event/expo-tatiana-olea/
LOCATION:Restaurant Innovizza\, 9\, place du Général Le Gaulle\, Fontenay-aux-Roses\, 92260
CATEGORIES:Expositions
ATTACH;FMTTYPE=image/jpeg:https://artnco.org/wp-content/uploads/2025/11/20251105_145131-scaled.jpg
END:VEVENT
BEGIN:VEVENT
DTSTART;TZID=Europe/Paris:20251103T080000
DTEND;TZID=Europe/Paris:20251123T210000
DTSTAMP:20260425T213458
CREATED:20251015T160930Z
LAST-MODIFIED:20251016T062544Z
UID:15335-1762156800-1763931600@artnco.org
SUMMARY:Salon d’Automne de la Société des Beaux-Arts de Boulogne-Billancourt
DESCRIPTION:Du 3 au 23 novembre 2025\, l’Espace Landowski accueille la 11e édition du Salon d’Automne de la Société des Beaux-Arts de Boulogne-Billancourt. Ce rendez-vous culturel\, organisé avec le soutien de la Ville\, met en lumière la vitalité artistique de la cité des artistes. Plus de 110 peintres\, sculpteurs et photographes y présentent leurs œuvres\, mêlant figures confirmées et talents émergents. L’événement est également marqué par la remise de distinctions prestigieuses\, dont le Prix Marcel-Loyau\, les Prix du Public (Peinture\, Sculpture\, Photographie) et le Prix Jeune Talent Univers des Arts\, offrant une reconnaissance aux créateurs les plus remarqués. Une occasion idéale pour découvrir la richesse de la création contemporaine et partager un moment d’émerveillement artistique.
URL:https://artnco.org/event/salon-dautomne-de-la-societe-des-beaux-arts-de-boulogne-billancourt/
LOCATION:Espace Landowski\, 28 Avenue André Morizet\, Boulogne-Billancourt\, 92100
CATEGORIES:Évènements Artistiques
ATTACH;FMTTYPE=image/jpeg:https://artnco.org/wp-content/uploads/2025/10/Salon-dAutomne-Boulogne-Billancourt.jpg
END:VEVENT
BEGIN:VEVENT
DTSTART;TZID=Europe/Paris:20251018T100000
DTEND;TZID=Europe/Paris:20251206T170000
DTSTAMP:20260425T213458
CREATED:20250812T210621Z
LAST-MODIFIED:20251211T192038Z
UID:14738-1760781600-1765040400@artnco.org
SUMMARY:Stage découverte "Sculpture/Modelage"
DESCRIPTION:Venez découvrir la sculpture par le modelage de l’argile ! Stage animé par Marine Auvray. \n\nDécouverte des différentes techniques comme la ronde bosse et le bas-relief.\nRéalisation d’une petite sculpture par étape en faïence.\n\nAu programme : \n\nApport théorique sur les différentes techniques et outils\nRéalisation d’une petite sculpture avec la technique “de la boulette”\n\nInformations pratiques : \nLieu : 30 av. Meissonier\, Poissy\nHoraires : 10h/13h – 14h/17h – possibilité de déjeuner sur place\nDates : samedi 18 octobre\, dimanche 9 novembre\, samedi 13 décembre 2025\nTarifs : 145€ la journée (matériel\, boissons et cuisson des pièces inclus)
URL:https://artnco.org/event/stage-decouverte-sculpture-modelage/
LOCATION:30 Av. Meissonier\, 30 Av. Meissonier\, Poissy\, 78300
CATEGORIES:Stages&Cours
ATTACH;FMTTYPE=image/jpeg:https://artnco.org/wp-content/uploads/2025/08/Stage-sculpture-MARINE-1-1-scaled.jpg
ORGANIZER;CN="Marine Auvray":MAILTO:m.auvray.78@gmail.com
END:VEVENT
BEGIN:VEVENT
DTSTART;TZID=Europe/Paris:20250927T100000
DTEND;TZID=Europe/Paris:20251122T180000
DTSTAMP:20260425T213458
CREATED:20250812T214304Z
LAST-MODIFIED:20250917T211822Z
UID:14745-1758967200-1763834400@artnco.org
SUMMARY:Stage découverte "Linogravure"
DESCRIPTION:Ce stage\, animé par Eva Menendez\, vous propose de découvrir la technique de la gravure sur linoleum! \nAu programme : \n\napprendre à placer son motif\nutiliser les bons outils\nl’impression sur papier\n\nInformations Pratiques : \nLieu : 30 av. Meissonier\, Poissy\nHoraires : 10h/13h – 14h-18h – possibilité de déjeuner sur place\nDates : samedi 27 septembre\, dimanche 26 octobre\, samedi 22 novembre 2024\nTarifs : 130€ la journée (matériel\, boissons et snacks inclus) \n 
URL:https://artnco.org/event/stage-decouverte-linogravure/
LOCATION:30 Av. Meissonier\, 30 Av. Meissonier\, Poissy\, 78300
CATEGORIES:Stages&Cours
ATTACH;FMTTYPE=image/jpeg:https://artnco.org/wp-content/uploads/2025/08/Stage-Linogravure-EVA-1-scaled.jpg
ORGANIZER;CN="Eva Menendez":MAILTO:eva.menendez78@gmail.com
END:VEVENT
BEGIN:VEVENT
DTSTART;TZID=Europe/Paris:20250925T140000
DTEND;TZID=Europe/Paris:20260625T160000
DTSTAMP:20260425T213458
CREATED:20250712T135336Z
LAST-MODIFIED:20250917T211948Z
UID:14301-1758808800-1782403200@artnco.org
SUMMARY:Cours de peinture
DESCRIPTION:Saison 2025-2026\nLes inscriptions sont ouvertes !\nCours d’acrylique pour tout niveau.\nDu figuratif à l’abstrait. Ados et adultes.\nCouleurs\, compositions\, styles variés\, œuvres uniques à votre image.\nDu 25 septembre 2025 au 25 juin 2026\nJeudi de 14h à 16h15\nSalle « Capucine »\nClub Péguy\nTel : 01 30 74 67 96\nCLUB.PEGUY@ORANGE.FR\nWWW.CLUB.PEGUY.FR
URL:https://artnco.org/event/cours-de-peinture/
LOCATION:Club Péguy\, 32 bis Fernand Lefebvre\, Poissy\, 78300\, France
CATEGORIES:Stages&Cours
ATTACH;FMTTYPE=image/jpeg:https://artnco.org/wp-content/uploads/2025/07/Cours-de-Peinture-scaled.jpg
ORGANIZER;CN="Club Peguy":MAILTO:club.peguy@orange.fr
END:VEVENT
BEGIN:VEVENT
DTSTART;TZID=Europe/Paris:20250920T100000
DTEND;TZID=Europe/Paris:20251115T180000
DTSTAMP:20260425T213458
CREATED:20250718T180627Z
LAST-MODIFIED:20250917T212115Z
UID:14512-1758362400-1763229600@artnco.org
SUMMARY:L’Art de la Transformation
DESCRIPTION:Stage d’art intuitif\, de feutrage textile et de bien-être\n\n\nCe stage vous invite à un voyage sensoriel et créatif où se mêlent peinture spontanée\, création textile et recentrage énergétique. Une journée unique pour explorer votre créativité\, vous reconnecter à vous-même et transformer vos ressentis en œuvres sensibles et poétiques. \nAnimé par Emmanuelle Pourcel\, réflexologue et énergéticienne\, et Ariane Mariane\, artiste textile et coach en développement personnel\, ce stage vous propose un voyage intérieur\, à la rencontre de votre potentiel créateur. \nAu programme : \n\nSéance énergétique guidée par Emmanuelle\, pour vous recentrer\, apaiser le mental et ouvrir un espace propice à la création.\nExploration créative intuitive avec Ariane : laissez émerger formes et couleurs à travers la réalisation d’un leporello (petit livre-objet) spontané et expressif.\nTransformation textile : feutrage de la laine avec incrustation de papiers et de tissus.\nIntégration énergétique : un second soin viendra clore la journée en douceur\, pour repartir apaisé·e\, aligné·e et inspiré·e.\n\nUne journée pour : \n\nÉveiller votre enfant créatif\,\nRenouer avec votre puissance expressive\,\nVous offrir un moment de reconnexion profonde\,\nRepartir avec deux œuvres uniques : un leporello et une création textile personnalisée.\n\nAucune expérience artistique nécessaire — Laissez-vous guider par l’élan du cœur. \n\nDéroulement d’une journée\n\n\nDans un parcours ouvert\, les hésitations deviennent matière à découvrir. Les tâtonnements ouvrent de nouveaux possibles. \nUne journée de stage de 6 h * est rythmée par des : \n\nSéances énergétiques et méditations guidées pour se recentrer\, apaiser le mental et ouvrir un espace propice à la création.\nExplorations créatives & Art intuitif\nTemps d’échange et d’écoute bienveillante\nIntégration énergétique\n\nBienvenue dans l’espace des possibles où l’art devient chemin vers soi\, l’expression et l’outil de la transformation. \n*3 h le matin\, 3 h l’après-midi. Pause déjeuner : 1 h. \n\n\nInfos pratiques\nCe stage est proposé une fois par mois\, de septembre à novembre 2025.\nChaque journée constitue une étape unique sur le chemin d’une reconquête intérieure : devenir créateur ou créatrice de votre vie. \nL’inscription aux trois journées est vivement encouragée pour approfondir le processus\, bénéficier de la diversité des expérimentations proposées et nourrir une dynamique de transformation durable. \n🎨 Chaque rencontre est différente\, avec des supports et explorations variés.\nParticiper aux trois rencontres est vivement encouragé. \n\n\nLieu : 30\, rue Meissonnier\, 78300 Poissy\nDates : 20/09/2025\, 19/10/2025\, 15/11/2025\nHoraires : 10h – 17h avec 1h de pause déjeuner\nUn repas partagé et proposé pour celles et ceux qui le souhaitent. \nTarif de lancement :\n(dégressif selon le nombre de journées d’inscription) \n\n1 journée : 150 €\n2 journées : 260 €\n3 journées : 330 €\n\nÀ prévoir : \n\nUne tenue confortable\nUne blouse ou des vêtements ne craignant pas d’éventuelles éclaboussures de peinture\nDes chaussures de marche pour une éventuelle sortie en forêt (en accord avec l’ensemble du groupe)\nDes chaussons ou des chaussettes épaisses pour être à l’aise à l’intérieur de l’atelier\n\n👥 Nombre de participant·es limité à 4 personnes – pour un accompagnement intime et personnalisé. \n\nInscription\n\n\n\nPar Mail\nVia WhatsApp
URL:https://artnco.org/event/lart-de-la-transformation/
LOCATION:30 Av. Meissonier\, 30 Av. Meissonier\, Poissy\, 78300
CATEGORIES:Stages&Cours
ATTACH;FMTTYPE=image/png:https://artnco.org/wp-content/uploads/2025/06/intuitive-painting-leporello-lisa-square.png
ORGANIZER;CN="Ariane Mariane":MAILTO:hello@arianemariane.fr
END:VEVENT
BEGIN:VEVENT
DTSTART;TZID=Europe/Paris:20250913T100000
DTEND;TZID=Europe/Paris:20260613T130000
DTSTAMP:20260425T213458
CREATED:20250907T110539Z
LAST-MODIFIED:20250908T120125Z
UID:14914-1757757600-1781355600@artnco.org
SUMMARY:Cours sculpture sur pierre
DESCRIPTION:Venez découvrir la sculpture sur pierre\, les samedis matin de 10 h à 13h à la maison de quartier place de l’église à Conflans ste Honorine.\n500 euros l’année\, pierre et outillage fourni.
URL:https://artnco.org/event/cours-sculpture-sur-pierre/
LOCATION:Maison de quartier\, 4 place de l'église\, Conflans sainte Honorine\, France
CATEGORIES:Stages&Cours
ATTACH;FMTTYPE=image/png:https://artnco.org/wp-content/uploads/2025/09/IMG_20250903_170831-scaled.png
ORGANIZER;CN="Gr%C3%A9gory Brizou":MAILTO:grreg.brizou@gmail.com
END:VEVENT
BEGIN:VEVENT
DTSTART;TZID=Europe/Paris:20250908T080000
DTEND;TZID=Europe/Paris:20251231T170000
DTSTAMP:20260425T213458
CREATED:20250719T122752Z
LAST-MODIFIED:20250719T122752Z
UID:14526-1757318400-1767200400@artnco.org
SUMMARY:Ateliers décoration - patines & effets déco sur meubles\, objets ou toiles
DESCRIPTION:Dans mon atelier en centre-ville de Poissy\, je mets mes compétences à votre service en vous proposant des cours et des stages.\nJe vous accompagne et vous conseille à chaque étape en jouant avec les couleurs\, les sources d’inspiration et une large palette d’effets décoratifs pour transformer et embellir vos trouvailles.\nDe nombreuses idées de patines vous séduiront par leur côté élégant ou vintage. \nRestaurer un meuble ou un objet\, c’est perpétrer le fil d’une transmission\, lui offrir une nouvelle vie en le remettant au goût du jour\, tout en conservant son caractère original\, afin qu’il puisse trouver sa place à la maison ou au jardin\, et faire partie de la famille.\nLe concept s’inscrit dans une notion d’économie circulaire qui répond au développement durable grâce à l’utilisation de peintures biosourcées et de produits respectueux de l’environnement. \nNB : toutes les techniques et effets décoratifs enseignés peuvent servir de base à la création d’oeuvres picturales ou sculpturales !\nN’hésitez pas à vous renseigner notamment sur les stages. \nInfos et inscriptions sur le site internet ou createliers.w@free.fr \nValérie-Anne\, passionnée par les activités créatives et artistiques\, est la fondatrice de CreAteliers W. Elle est titulaire d’une certification professionnelle en rénovation de meubles et déclarée à la Chambre des Métiers et de l’Artisanat.
URL:https://artnco.org/event/ateliers-decoration-patines-effets-deco-sur-meubles-objets-ou-toiles/
LOCATION:Centre-ville de Poissy\, Poissy\, 78300\, France
CATEGORIES:Stages&Cours
ATTACH;FMTTYPE=image/jpeg:https://artnco.org/wp-content/uploads/2025/07/Affiche-ArtnCo-CreAteliers-ATELIERS-QR-code-.jpg
ORGANIZER;CN="CreAteliers W":MAILTO:createliers.w@free.fr
END:VEVENT
END:VCALENDAR