BEGIN:VCALENDAR
VERSION:2.0
PRODID:-//ArtˈnCo - ECPv6.13.2.1//NONSGML v1.0//EN
CALSCALE:GREGORIAN
METHOD:PUBLISH
X-WR-CALNAME:ArtˈnCo
X-ORIGINAL-URL:https://artnco.org
X-WR-CALDESC:Évènements pour ArtˈnCo
REFRESH-INTERVAL;VALUE=DURATION:PT1H
X-Robots-Tag:noindex
X-PUBLISHED-TTL:PT1H
BEGIN:VTIMEZONE
TZID:Europe/Paris
BEGIN:DAYLIGHT
TZOFFSETFROM:+0100
TZOFFSETTO:+0200
TZNAME:CEST
DTSTART:20250330T010000
END:DAYLIGHT
BEGIN:STANDARD
TZOFFSETFROM:+0200
TZOFFSETTO:+0100
TZNAME:CET
DTSTART:20251026T010000
END:STANDARD
BEGIN:DAYLIGHT
TZOFFSETFROM:+0100
TZOFFSETTO:+0200
TZNAME:CEST
DTSTART:20260329T010000
END:DAYLIGHT
BEGIN:STANDARD
TZOFFSETFROM:+0200
TZOFFSETTO:+0100
TZNAME:CET
DTSTART:20261025T010000
END:STANDARD
END:VTIMEZONE
BEGIN:VEVENT
DTSTART;VALUE=DATE:20260201
DTEND;VALUE=DATE:20260203
DTSTAMP:20260425T141304
CREATED:20251013T180145Z
LAST-MODIFIED:20251013T180348Z
UID:15323-1769932800-1770019199@artnco.org
SUMMARY:Exposition des	"Arts Mantevillois"- Printemps 2026
DESCRIPTION:Vous pouvez dès maintenant consulter le règlement ainsi que le bulletin d’inscription pour le Salon du PRINTEMPS  2026 qui se tiendra du 17 au 25 avril 2026 à Mantes-la-Ville. \nInscription      Règlement \n\n\n\n\n\n\nSi vous avez exposé lors d’un des 4 derniers Salons\, un dossier d’inscription vous sera systématiquement adressé par e-mail ou par courrier (à défaut d’adresse mail).\n \nSi vous n’êtes pas dans ce cas\, vous pouvez faire une demande de dossier à :\nMichel Bratyna – président des Arts Mantevillois\n06 26 21 22 94\nmichel.bratyna-artsmantevillois@orange.fr \nLa date limite des inscriptions est fixée au 01 FEVRIER 2026 \nFrais d’inscription 30 € pour le salon\n \nChèque à l’ordre des    «ARTS  MANTEVILLOIS»\n \nNOTA : vous devenez adhérent à notre association suite à votre bulletin d’ inscription à ce titre\, vous êtes électeurs et éligibles à l’année échue qui précède la tenue de l’A. G (Article 4 c des statuts de l’association)
URL:https://artnco.org/event/exposition-des-arts-mantevillois-printemps-2026/
LOCATION:Espace culturel Jacques Brel\, 21 Rue des Merisiers\, Mantes-la-Ville\, 78711
CATEGORIES:Appels à Artistes
ATTACH;FMTTYPE=image/jpeg:https://artnco.org/wp-content/uploads/2024/08/Arts-Mantevillois.jpg
ORGANIZER;CN="Arts Mantevillois":MAILTO:michel.bratyna-artsmantevillois@orange.fr
END:VEVENT
BEGIN:VEVENT
DTSTART;VALUE=DATE:20260201
DTEND;VALUE=DATE:20260203
DTSTAMP:20260425T141304
CREATED:20251029T123501Z
LAST-MODIFIED:20251029T123501Z
UID:15492-1769932800-1770019199@artnco.org
SUMMARY:Appel à candidature Neauphle Photo 2026
DESCRIPTION:Notre Syndicat d’Initiative qui se situe à Neauphle-le-château\, organise en Mars 2026 un salon de la Photographie. \nNotre Salon est ouvert aux professionnels et amateurs de tous horizons\, afin de les faire connaître et de rencontrer le public. \nSi vous êtes intéressés\, faites nous le savoir à l’adresse suivante : sinlcsalonphoto@gmail.com \nEn retour nous vous enverrons toutes les informations nécessaires à votre participation et sur l’é
URL:https://artnco.org/event/appel-a-candidature-neauphle-photo-2026/
LOCATION:Maison du Jeu de Paume\, rue du jeu de Paume\, Neauphle-le-Château\, 78640
CATEGORIES:Appels à Artistes
ATTACH;FMTTYPE=image/jpeg:https://artnco.org/wp-content/uploads/2025/10/appel-A-candidature-general-pour-le-salon-neauphle-photo-2026.jpg
ORGANIZER;CN="Syndicat d'Initiative de Neauphle-leChateau":MAILTO:sinlc78@gmail.com
END:VEVENT
BEGIN:VEVENT
DTSTART;TZID=Europe/Paris:20260131T140000
DTEND;TZID=Europe/Paris:20260208T180000
DTSTAMP:20260425T141304
CREATED:20260128T100114Z
LAST-MODIFIED:20260206T124244Z
UID:16697-1769868000-1770573600@artnco.org
SUMMARY:ARAMI 2026
DESCRIPTION:La 81ème édition du salon arami aura lieu du samedi 31 janvier au dimanche 8 février 2026. \nCette 81ème édition\, le salon accueillera une centaine d’artistes de différentes techniques (peintres\, sculpteurs\, graveurs\, photographes\, plasticiens…) \nThème “rêves- rêveries” \nInvités d’honneur : \nOlga ROCHER – Christian TELL \nintervention des invités d’honneur autour de leurs oeuvres les dimanches 1er et 8 février à partir de 16h.\nrendez-vous dans l’exposition \nSalle Yvonne Printemps du théâtre Pierre Fresnay à Ermont \nde 14h à 18h tout public tous les jours\nde 18 à 20h nocturne le vendredi soir
URL:https://artnco.org/event/arami-2026/
LOCATION:Théâtre Pierre Fresnay\, 3 rue Saint Flaive\, Ermont\, 95120
CATEGORIES:Évènements Artistiques
ATTACH;FMTTYPE=image/jpeg:https://artnco.org/wp-content/uploads/2026/01/Affiche-Arami-2026-scaled.jpg
ORGANIZER;CN="Les Amis des Arts":MAILTO:arami95contact@laposte.net
END:VEVENT
BEGIN:VEVENT
DTSTART;TZID=Europe/Paris:20260130T140000
DTEND;TZID=Europe/Paris:20260201T160000
DTSTAMP:20260425T141304
CREATED:20260128T105549Z
LAST-MODIFIED:20260128T105755Z
UID:16702-1769781600-1769961600@artnco.org
SUMMARY:Festiv'Image
DESCRIPTION:Pour célébrer cette décennie de passion photographique\, une dizaine de clubs photo du territoire vous invite à découvrir ses plus beaux clichés. Cette année\, l’exposition est placée sous le signe de l’excellence\, avec Antoine LA ROCCA en invité d’honneur.
URL:https://artnco.org/event/festivimage/
LOCATION:Espace Louis Armand\, 142 rue Louis Armand\, Carrières-sous-Poissy\, 78955
CATEGORIES:Évènements Artistiques
ATTACH;FMTTYPE=image/jpeg:https://artnco.org/wp-content/uploads/2026/01/FestivImage.jpg
END:VEVENT
BEGIN:VEVENT
DTSTART;TZID=Europe/Paris:20260121T093000
DTEND;TZID=Europe/Paris:20260203T173000
DTSTAMP:20260425T141304
CREATED:20251204T093007Z
LAST-MODIFIED:20251210T074931Z
UID:15931-1768987800-1770139800@artnco.org
SUMMARY:Exposition photos  AUTOUR DE L'EAU
DESCRIPTION:Trois photographes Art’nCo exposent au Club Péguy à Poissy 32 Bis avenue du Lundi de 14 H à 17 h 45 et du Mardi au Vendredi de 9 h 15 à 12 h 30 et de 14 H à 17 H45 .\nVERNISSAGE le mercredi 21 janvier à 19 h..
URL:https://artnco.org/event/exposition-photos-autour-de-leau/
LOCATION:Club Péguy\, 32 bis Fernand Lefebvre\, Poissy\, 78300\, France
CATEGORIES:Expositions
ATTACH;FMTTYPE=image/jpeg:https://artnco.org/wp-content/uploads/2025/12/Club-Peguy-scaled.jpg
END:VEVENT
BEGIN:VEVENT
DTSTART;VALUE=DATE:20260114
DTEND;VALUE=DATE:20260602
DTSTAMP:20260425T141304
CREATED:20260119T123644Z
LAST-MODIFIED:20260119T130248Z
UID:16596-1768377600-1780300799@artnco.org
SUMMARY:Exposition Vincent Héguy au Château de la Bucherie
DESCRIPTION:Coup de soleil sur le château pour cette réouverture colorée et inspirante grâce à l’exposition de @vincent_heguy qui nous fait découvrir sa collection Nymphéas \n\n\nÀ visiter tous les jours jusque fin mai prochain \n\n\nExposition gratuite – ouverte aux non résidents à l’hôtel
URL:https://artnco.org/event/vincent-heguy-au-chateau-de-la-bucherie/
LOCATION:Château de la Bucherie\, 5 Rue du Parc\, Saint-Cyr-en-Arthies\,\, 95510
CATEGORIES:Évènements Artistiques
ATTACH;FMTTYPE=image/jpeg:https://artnco.org/wp-content/uploads/2026/01/Nympheas-2-Vincent-Heguy.jpg
ORGANIZER;CN="Ch%C3%A2teau de la Bucherie":MAILTO:contact@chateaudelabucherie.com
END:VEVENT
BEGIN:VEVENT
DTSTART;VALUE=DATE:20260106
DTEND;VALUE=DATE:20260330
DTSTAMP:20260425T141304
CREATED:20260211T195917Z
LAST-MODIFIED:20260211T195917Z
UID:16870-1767686400-1774771199@artnco.org
SUMMARY:Exposition : La Nature en images\, faune & flore du parc
DESCRIPTION:D’une friche industrielle à un parc fourmillant de vie : découvrez comment le Parc du Peuple de l’herbe est devenu un refuge majeur pour la biodiversité en Île-de-France\, grâce à une gestion écologique et des suivis naturalistes réguliers. \n\n\n\n\nAncienne friche industrielle polluée\, le Parc départemental du Peuple de l’herbe\, inauguré en 2017\, est aujourd’hui un véritable sanctuaire pour la biodiversité en milieu périurbain. Sa création et sa gestion écologique ont permis de reconstituer une mosaïque de milieux naturels complémentaires\, favorables à de nombreuses espèces animales et végétales. \nOn y trouve notamment de vastes prairies riches en flore sauvage et en insectes pollinisateurs\, des zones humides composées de mares\, d’étangs et de roselières accueillant amphibiens\, libellules et oiseaux aquatiques\, ainsi que des boisements\, haies et ripisylves le long de la Seine servant de refuges\, de lieux de reproduction ou d’étapes migratoires. \nAfin d’accompagner au mieux cette dynamique\, le Département des Yvelines a mis en place des inventaires naturalistes réguliers dès avant la création du Parc\, en 2012\, puis en 2017\, 2019 et 2024. Ces suivis permettent de mesurer l’évolution des milieux et des espèces\, d’évaluer l’efficacité des actions de gestion et d’adapter les aménagements en faveur de la biodiversité. \nLe Parc tire d’ailleurs son nom des 1 083 espèces d’insectes qu’il héberge\, dont près de 30 espèces de libellules recensées ces dernières années\, faisant du site une référence régionale pour les odonates. On y dénombre également 252 espèces de plantes\, 72 espèces d’oiseaux\, ainsi que plusieurs espèces d’amphibiens et de reptiles. \nL’exposition « La Nature en images : faune & flore du Parc » met en lumière une sélection de ces espèces relativement abondantes. Elle invite les visiteurs à observer\, comprendre et apprécier la richesse du vivant tout en profitant des aménagements du Parc. \nParmi les acteurs de cette connaissance naturaliste figure Gilles Carcassès\, photographe passionné et spécialiste des insectes\, qui explore le Parc toute l’année pour recenser et documenter ses habitants\, contribuant activement à la valorisation scientifique et pédagogique du site.
URL:https://artnco.org/event/exposition-la-nature-en-images-faune-flore-du-parc/
LOCATION:Maison des Insectes\, 718 Av. du Dr. Marcel touboul\, Carrières-sous-Poissy\, 78955
CATEGORIES:Évènements Partenaires
ATTACH;FMTTYPE=image/jpeg:https://artnco.org/wp-content/uploads/2026/02/La-Nature-en-Images.jpg
END:VEVENT
BEGIN:VEVENT
DTSTART;TZID=Europe/Paris:20260103T093000
DTEND;TZID=Europe/Paris:20261231T170000
DTSTAMP:20260425T141304
CREATED:20260103T194546Z
LAST-MODIFIED:20260103T194546Z
UID:16443-1767432600-1798736400@artnco.org
SUMMARY:Ateliers RELOOKING de meubles et objets - centre-ville Poissy
DESCRIPTION:Dans mon atelier en centre-ville de Poissy\, je mets mes compétences à votre service en vous proposant des cours et des stages.\nAteliers réguliers les Mercredi et Samedi pour le 1er trimestre 2026.\nAtelier : 10 €/heure \nVous pourrez acheter sur place ou commander tous les produits Camaëlle.\nJe vous accompagne et vous conseille à chaque étape en jouant avec les couleurs\, les sources d’inspiration et une large palette d’effets décoratifs pour transformer et embellir vos trouvailles.\nDe nombreuses idées de patines vous séduiront par leur côté élégant ou vintage. \nRestaurer un meuble\, c’est perpétrer le fil d’une transmission\, lui offrir une nouvelle vie en le remettant au goût du jour\, tout en conservant son caractère original\, afin qu’il puisse trouver sa place à la maison ou au jardin\, et faire partie de la famille.\nLe concept s’inscrit dans une notion d’économie circulaire qui répond au développement durable grâce à l’utilisation des peintures biosourcées Camaëlle et de produits respectueux de l’environnement. \nCertification professionnelle en rénovation de meubles – activité artisanale déclarée à la Chambre des Métiers et de l’Artisanat
URL:https://artnco.org/event/ateliers-relooking-de-meubles-et-objets-centre-ville-poissy/
LOCATION:Centre-ville de Poissy\, Poissy\, 78300\, France
CATEGORIES:Stages&Cours
ATTACH;FMTTYPE=image/jpeg:https://artnco.org/wp-content/uploads/2026/01/Affiche-Poissy-QR-codes-Ateliers-et-Stages-CreAteliers-W-scaled.jpg
ORGANIZER;CN="CreAteliers W":MAILTO:createliers.w@free.fr
END:VEVENT
BEGIN:VEVENT
DTSTART;TZID=Europe/Paris:20251126T130000
DTEND;TZID=Europe/Paris:20260322T180000
DTSTAMP:20260425T141304
CREATED:20251108T114126Z
LAST-MODIFIED:20260309T210808Z
UID:15618-1764162000-1774202400@artnco.org
SUMMARY:Grégoire de Gaulle - Un certain regard sur Poissy
DESCRIPTION:Entrez dans l’univers singulier de Grégoire de Gaulle et arpentez les rues de Poissy à travers une série d’images dédiées aux portes de la ville.Curieux de la nature qui l’entoure et ouvert sur le monde\, le photographe est\, depuis de nombreuses années\, attiré par ces objets architecturaux majeurs de notre quotidien. Pour cette nouvelle carte blanche photos de La Maison de Fer\, l’exposition réunit un ensemble de clichés inédits de l’artiste\, explorant les portes comme points de passages mystérieux. Du 26 novembre 2025 au 22 mars 2026 3€/1€ RéduitMercredi\, Samedi et Dimanche de 13h à 18h Informations au 01 39 22 54 31 ou sur maisondefer@ville-poissy.fr
URL:https://artnco.org/event/gregoire-de-gaulle-un-certain-regard-sur-poissy/
LOCATION:Maison de Fer\, 2 ter Allée des Glaieuls - Parc Meissonnier\, Poissy\, 78300\, France
CATEGORIES:Évènements Partenaires
ATTACH;FMTTYPE=image/jpeg:https://artnco.org/wp-content/uploads/2025/11/Gregoire-de-Gaulle.jpg
END:VEVENT
BEGIN:VEVENT
DTSTART;TZID=Europe/Paris:20250925T140000
DTEND;TZID=Europe/Paris:20260625T160000
DTSTAMP:20260425T141304
CREATED:20250712T135336Z
LAST-MODIFIED:20250917T211948Z
UID:14301-1758808800-1782403200@artnco.org
SUMMARY:Cours de peinture
DESCRIPTION:Saison 2025-2026\nLes inscriptions sont ouvertes !\nCours d’acrylique pour tout niveau.\nDu figuratif à l’abstrait. Ados et adultes.\nCouleurs\, compositions\, styles variés\, œuvres uniques à votre image.\nDu 25 septembre 2025 au 25 juin 2026\nJeudi de 14h à 16h15\nSalle « Capucine »\nClub Péguy\nTel : 01 30 74 67 96\nCLUB.PEGUY@ORANGE.FR\nWWW.CLUB.PEGUY.FR
URL:https://artnco.org/event/cours-de-peinture/
LOCATION:Club Péguy\, 32 bis Fernand Lefebvre\, Poissy\, 78300\, France
CATEGORIES:Stages&Cours
ATTACH;FMTTYPE=image/jpeg:https://artnco.org/wp-content/uploads/2025/07/Cours-de-Peinture-scaled.jpg
ORGANIZER;CN="Club Peguy":MAILTO:club.peguy@orange.fr
END:VEVENT
BEGIN:VEVENT
DTSTART;TZID=Europe/Paris:20250913T100000
DTEND;TZID=Europe/Paris:20260613T130000
DTSTAMP:20260425T141304
CREATED:20250907T110539Z
LAST-MODIFIED:20250908T120125Z
UID:14914-1757757600-1781355600@artnco.org
SUMMARY:Cours sculpture sur pierre
DESCRIPTION:Venez découvrir la sculpture sur pierre\, les samedis matin de 10 h à 13h à la maison de quartier place de l’église à Conflans ste Honorine.\n500 euros l’année\, pierre et outillage fourni.
URL:https://artnco.org/event/cours-sculpture-sur-pierre/
LOCATION:Maison de quartier\, 4 place de l'église\, Conflans sainte Honorine\, France
CATEGORIES:Stages&Cours
ATTACH;FMTTYPE=image/png:https://artnco.org/wp-content/uploads/2025/09/IMG_20250903_170831-scaled.png
ORGANIZER;CN="Gr%C3%A9gory Brizou":MAILTO:grreg.brizou@gmail.com
END:VEVENT
END:VCALENDAR