BEGIN:VCALENDAR
VERSION:2.0
PRODID:-//ArtˈnCo - ECPv6.13.2.1//NONSGML v1.0//EN
CALSCALE:GREGORIAN
METHOD:PUBLISH
X-WR-CALNAME:ArtˈnCo
X-ORIGINAL-URL:https://artnco.org
X-WR-CALDESC:Évènements pour ArtˈnCo
REFRESH-INTERVAL;VALUE=DURATION:PT1H
X-Robots-Tag:noindex
X-PUBLISHED-TTL:PT1H
BEGIN:VTIMEZONE
TZID:Europe/Paris
BEGIN:DAYLIGHT
TZOFFSETFROM:+0100
TZOFFSETTO:+0200
TZNAME:CEST
DTSTART:20260329T010000
END:DAYLIGHT
BEGIN:STANDARD
TZOFFSETFROM:+0200
TZOFFSETTO:+0100
TZNAME:CET
DTSTART:20261025T010000
END:STANDARD
END:VTIMEZONE
BEGIN:VEVENT
DTSTART;TZID=Europe/Paris:20260607T093000
DTEND;TZID=Europe/Paris:20260607T180000
DTSTAMP:20260424T172156
CREATED:20260324T194011Z
LAST-MODIFIED:20260327T081121Z
UID:17388-1780824600-1780855200@artnco.org
SUMMARY:Journée sur le motif à Andrésy
DESCRIPTION:Bonjour à tous \n\nVeuillez noter et réservez la date du 7 juin 2026 pour la journée sur le motif.\nMerci de transférer cette info au sein de vos associations\nEn hommage à Dan Duparc qui m’a confié la tâche de l’organisation\, je souhaite que nous soyons pour lui encore plus nombreux que l’an dernier.\nLes conditions n’ont pas changé\, il suffit de m’envoyer au préalable un mail ou un SMS avec vos nom et prénom pour vous inscrire.\nC’est toujours gratuit et il n’y a pas de concours . 50 inscriptions maximum.\nHeure d’arrivée : 9h30 Espace Julien Green 4 boulevard Noël Marc\nHeure de rassemblement  : 16h30 Espace Julien Green\nExposition à partir de 16h30 pour ceux qui le souhaitent Espace Julien Green\nPot participatif à partir de 17h00 Espace Julien Green\n.\nA noter que l’île Nancy est accessible à partir de 10h le matin et que l’ouverture au public de l’île débute le 1er Avril.\nA noter aussi que l’exposition Sculptures en l’île 2026 aura débuté depuis la veille et vous pourrez donc faire une pierre deux coups. Il y aura beaucoup de visiteurs sur l’île Nancy ce dimanche 7 juin .\nQuelques œuvres exposées autour de votre emplacement sont les bienvenues\nBonne humeur et créations artistiques dans un lieu inspirant\, voilà le programme .\nA votre disposition pour tout renseignement complémentaire\nBien à vous\n\nPascal SALAÜN\nMembre Amicale des Beaux Arts d’Andrésy\nTel 06 12 80 61 66\nAvec le soutien de Jazz en vignes et de la mairie d’Andrésy
URL:https://artnco.org/event/journee-sur-le-motif-a-andresy/
LOCATION:Espace Julien Green\, 4 Bd Noel Marc (Hotel de Ville)\, Andrésy\, 78570
CATEGORIES:Appels à Artistes,Évènements Artistiques
ATTACH;FMTTYPE=image/jpeg:https://artnco.org/wp-content/uploads/2026/03/Journee-sur-le-motif.jpg
END:VEVENT
END:VCALENDAR