BEGIN:VCALENDAR
VERSION:2.0
PRODID:-//ArtˈnCo - ECPv6.13.2.1//NONSGML v1.0//EN
CALSCALE:GREGORIAN
METHOD:PUBLISH
X-WR-CALNAME:ArtˈnCo
X-ORIGINAL-URL:https://artnco.org
X-WR-CALDESC:Évènements pour ArtˈnCo
REFRESH-INTERVAL;VALUE=DURATION:PT1H
X-Robots-Tag:noindex
X-PUBLISHED-TTL:PT1H
BEGIN:VTIMEZONE
TZID:Europe/Paris
BEGIN:DAYLIGHT
TZOFFSETFROM:+0100
TZOFFSETTO:+0200
TZNAME:CEST
DTSTART:20260329T010000
END:DAYLIGHT
BEGIN:STANDARD
TZOFFSETFROM:+0200
TZOFFSETTO:+0100
TZNAME:CET
DTSTART:20261025T010000
END:STANDARD
END:VTIMEZONE
BEGIN:VEVENT
DTSTART;VALUE=DATE:20260501
DTEND;VALUE=DATE:20260503
DTSTAMP:20260424T140953
CREATED:20260315T142536Z
LAST-MODIFIED:20260401T204523Z
UID:17281-1777622400-1777708799@artnco.org
SUMMARY:Appel à Artistes – Salon d’Art Inédit de Poissy 2026
DESCRIPTION:Présentation générale\nL’association Art’nCo organise la 5ᵉ édition du Salon d’Art Inédit de Poissy\, qui réunira une trentaine d’artistes plasticiens du jeudi 24 septembre au mercredi 30 septembre 2026. \nPour cette nouvelle édition\, un appel à candidatures est lancé afin de sélectionner les exposants selon les critères suivants : \n\nOuvert aux artistes plasticiens : peinture\, dessin\, sculpture\, photographie\, installations\, arts numériques\, œuvres audiovisuelles\, etc.\nPrésentation d’œuvres inédites\, jamais exposées auparavant ou présentant un caractère d’originalité marqué. Les œuvres déjà présentées lors des précédentes éditions ne sont pas éligibles.\nCapacité à proposer une série d’œuvres cohérente dans un espace d’exposition conséquent (entre 4 et 8 mètres linéaires par artiste).\n\nArt’nCo privilégiera les artistes proposant des œuvres surprenantes et originales. Les grands formats seront particulièrement appréciés. Une scénographie spécifique sera mise en place\, avec des surfaces d’exposition permettant d’offrir à chaque artiste une visibilité optimale tout en préservant la cohérence d’ensemble. \nLa philosophie du salon consiste à guider le public dans un parcours de découverte progressive des artistes. Sauf exception (installations notamment)\, chaque artiste disposera d’un espace dédié dans lequel il pourra présenter ses œuvres librement. \nPrécédentes éditions\nUne rétrospective des précédentes éditions du Salon d’Art Inédit de Poissy est consultable sur notre site web : Edition 2025\, Edition 2024\,  Edition 2023\, Edition 2022. \nProcessus de sélection\nUne trentaine d’artistes seront sélectionnés pour ce salon. Les artistes ayant exposé lors des deux dernières éditions ne pourront pas participer. \nLes candidatures seront examinées par un comité de sélection composé de membres de l’association Art’nCo et de personnalités du monde artistique.\nLe comité de sélection portera un intérêt particulier pour des propositions originales qui investissent la surface ou l’espace d’exposition d’une manière inédite. \nLieu et Dates\nLieu : Centre de Diffusion artistique (CDA\, 53 Av. Blanche de Castille\, 78300 Poissy). \nInstallation du site : du lundi 21 au mercredi 23 septembre. \nOuverture au public : du jeudi 24 septembre après-midi au mercredi 30 septembre.\nVernissage : le vendredi 25 septembre – à confirmer . \nEn dehors du week-end\, des créneaux horaires seront proposés à divers groupes (scolaires\, ainés ou autres) sur réservation. \nDémontage : du mercredi 30 septembre après-midi au jeudi 1er octobre. \nInscription\nL’inscription se fait sur dossier\, potentiellement suivie d’un échange complémentaire. La date limite d’inscription est fixée au 1er mai 2026. \nL’inscription est gratuite et ouverte à tous les artistes mais nous insistons sur la nature participative de l’évènement qui nécessite une implication des participants dans l’animation. Les participants à l’évènement devront être adhérents de l’association (adhésion en ligne\, 10€/an). Une commission de 10% sera demandée pour les ventes effectuées pendant le salon. Le règlement complet de l’évènement est accessible ci-dessous. \nRèglement Salon d’Art Inédit de Poissy  \nLes candidat.e.s disposant d’un compte Google pourront s’inscrire en ligne (notre préférence) : \nInscription en ligne \nou\, à défaut\, en renvoyant un Formulaire d’Inscription  par mail à asso@artnco.org. \nRenseignements : +33(0)6.07.54.10.87 ou +33(0)6.07.03.53.96
URL:https://artnco.org/event/appel-a-artistes-salon-dart-inedit-de-poissy-2026/
LOCATION:Centre de Diffusion Artistique\, 53 Av. Blanche de Castille\, Poissy\, 78300
CATEGORIES:Appels à Artistes
ATTACH;FMTTYPE=image/jpeg:https://artnco.org/wp-content/uploads/2026/03/Appel-a-candidature-Salon-dArt-Inedit-Poissy.jpg
ORGANIZER;CN="Art'nCo":MAILTO:contact@artnco.org
END:VEVENT
END:VCALENDAR