BEGIN:VCALENDAR
VERSION:2.0
PRODID:-//ArtˈnCo - ECPv6.13.2.1//NONSGML v1.0//EN
CALSCALE:GREGORIAN
METHOD:PUBLISH
X-WR-CALNAME:ArtˈnCo
X-ORIGINAL-URL:https://artnco.org
X-WR-CALDESC:Évènements pour ArtˈnCo
REFRESH-INTERVAL;VALUE=DURATION:PT1H
X-Robots-Tag:noindex
X-PUBLISHED-TTL:PT1H
BEGIN:VTIMEZONE
TZID:Europe/Paris
BEGIN:DAYLIGHT
TZOFFSETFROM:+0100
TZOFFSETTO:+0200
TZNAME:CEST
DTSTART:20260329T010000
END:DAYLIGHT
BEGIN:STANDARD
TZOFFSETFROM:+0200
TZOFFSETTO:+0100
TZNAME:CET
DTSTART:20261025T010000
END:STANDARD
END:VTIMEZONE
BEGIN:VEVENT
DTSTART;VALUE=DATE:20260518
DTEND;VALUE=DATE:20260520
DTSTAMP:20260424T173055
CREATED:20260309T135306Z
LAST-MODIFIED:20260309T135306Z
UID:17181-1779091200-1779177599@artnco.org
SUMMARY:Appel à candidature - Propos d'Artistes / Morainvilliers
DESCRIPTION:Chers amis artistes\,\nLa commune de Morainvilliers-Bures serait ravie de vous accueillir sur son Salon d’Art annuel PROPOS D’ARTISTES 2026. Cette manifestation culturelle a pour objectif de faire connaître et apprécier les œuvres d’artistes amateurs ou confirmés de notre région ou d’ailleurs.\nComme chaque année\, une vingtaine d’artistes peintres et sculpteurs présenteront leurs créations. Le salon aura lieu du 03 au 11 octobre 2026 dans la salle des loisirs de Morainvilliers.\nLes inscriptions prendront fin le 18 mai 2026.\nPour vous inscrire\, rendez-vous sur le site de la mairie de Morainvilliers : https://www.morainvilliers-bures.fr/evenements/dossier-dinscription-propos-dartistes/ et envoyez le dossier d’inscription rempli ainsi que les photos des 5 œuvres proposées (maximum) à : proposdartistes@morainvilliers-bures.fr\nUn chèque de 50€ sera également demandé afin de régler les droits d’inscription. Il devra parvenir par courrier en Mairie de Morainvilliers\, en parallèle du dossier d’inscription. Un jury se réunira fin mai 2026 pour sélectionner les artistes et les œuvres qui façonneront cette 18ème édition. Si vous n’êtes pas retenu\, le chèque sera détruit ou retourné sur demande.\nToutes les informations utiles sont dans le dossier d’inscription disponible sur notre site internet précité. Si vous rencontrez des problèmes ou que vous avez des questions\, envoyez nous un courriel à proposdartistes@morainvilliers-bures.fr \nN’hésitez plus à candidater et bonne chance à tous !\nDans l’attente de vous accueillir\, nous vous adressons chers artistes\, nos meilleures salutations. \nLe jury PROPOS D’ARTISTE
URL:https://artnco.org/event/appel-a-candidature-propos-dartistes-morainvilliers/
LOCATION:Salle des Loisirs – Morainvilliers\, Morainvilliers\, 78630
CATEGORIES:Appels à Artistes
ATTACH;FMTTYPE=image/jpeg:https://artnco.org/wp-content/uploads/2026/03/Appel-a-Artistes-Morainvilliers.jpg
ORGANIZER;CN="Mairie de Morainvilliers":MAILTO:proposdartistes@morainvilliers-bures.fr
END:VEVENT
END:VCALENDAR