BEGIN:VCALENDAR
VERSION:2.0
PRODID:-//ArtˈnCo - ECPv6.13.2.1//NONSGML v1.0//EN
CALSCALE:GREGORIAN
METHOD:PUBLISH
X-WR-CALNAME:ArtˈnCo
X-ORIGINAL-URL:https://artnco.org
X-WR-CALDESC:Évènements pour ArtˈnCo
REFRESH-INTERVAL;VALUE=DURATION:PT1H
X-Robots-Tag:noindex
X-PUBLISHED-TTL:PT1H
BEGIN:VTIMEZONE
TZID:Europe/Paris
BEGIN:DAYLIGHT
TZOFFSETFROM:+0100
TZOFFSETTO:+0200
TZNAME:CEST
DTSTART:20230326T010000
END:DAYLIGHT
BEGIN:STANDARD
TZOFFSETFROM:+0200
TZOFFSETTO:+0100
TZNAME:CET
DTSTART:20231029T010000
END:STANDARD
END:VTIMEZONE
BEGIN:VEVENT
DTSTART;TZID=Europe/Paris:20231014T110000
DTEND;TZID=Europe/Paris:20231015T190000
DTSTAMP:20260424T104715
CREATED:20230924T205343Z
LAST-MODIFIED:20231006T201811Z
UID:5833-1697281200-1697396400@artnco.org
SUMMARY:Salon "Art sur Mauldre"
DESCRIPTION:Le samedi 14 et Dimanche 15 octobre 2023 L’association AT2A en collaboration avec la mairie du Tremblay-sur-Mauldre a le plaisir de vous accueillir au salon Art sur Mauldre \n18 artistes de qualité\, peintres\, dessinateurs et photographes exposeront salle de La Volière au Tremblay sur Mauldre
URL:https://artnco.org/event/salon-art-sur-mauldre/
LOCATION:Salle La Volière\, Le Tremblay-sur-Mauldre\, 78490
CATEGORIES:Évènements Artistiques
ATTACH;FMTTYPE=image/jpeg:https://artnco.org/wp-content/uploads/2023/09/Art-sur-Mauldre-2023.jpg
ORGANIZER;CN="Association Tremblaysienne des Arts et des Artistes":MAILTO:associationat2a@gmail.com
END:VEVENT
BEGIN:VEVENT
DTSTART;TZID=Europe/Paris:20231014T083000
DTEND;TZID=Europe/Paris:20231104T170000
DTSTAMP:20260424T104715
CREATED:20230930T120856Z
LAST-MODIFIED:20231008T100530Z
UID:5836-1697272200-1699117200@artnco.org
SUMMARY:Exposition des peintures de MARC FEIST
DESCRIPTION:Marc FEIST a le plaisir de vous inviter à découvrir une vingtaine de ses oeuvres dans l’espace de l’hôtel de ville du PECQ.\ndu 14 octobre au 4 novembre 2023.\nLe vernissage aura lieu le MERCREDI 18 OCTOBRE 2023 à 19h00.
URL:https://artnco.org/event/exposition-des-peintures-de-marc-feist/
LOCATION:Hôtel de Ville du Pecq\, 13 bis quai Maurice Berteaux\, Le Pecq\, 78230\, France
CATEGORIES:Évènements Artistiques
ATTACH;FMTTYPE=image/jpeg:https://artnco.org/wp-content/uploads/2023/09/Affiche-M.Feist_-scaled.jpg
ORGANIZER;CN="Marc FEIST":MAILTO:feist.marc@wanadoo.fr
END:VEVENT
BEGIN:VEVENT
DTSTART;VALUE=DATE:20231003
DTEND;VALUE=DATE:20231106
DTSTAMP:20260424T104715
CREATED:20231005T072612Z
LAST-MODIFIED:20231005T201724Z
UID:5857-1696320000-1699171199@artnco.org
SUMMARY:Art Exhibition
DESCRIPTION:Ouverture de l’EXPOSITION de Danièle LARTIGUE\nMardi 03 Octobre à Saint Germain en Laye  \nQuinze toiles viendront orner les murs de la Table du IV pendant un mois. \nDes portraits à l’acrylique\, des monotypes à l’encre\, des visages\, des corps\, des femmes et des hommes. \nVenez vous joindre à nous pour le VERNISSAGE \nqui aura lieu \nJEUDI 5 OCTOBRE\n18h-21hVernissage le 05 octobre à partir de 18h
URL:https://artnco.org/event/art-exhibition/
LOCATION:La Table du IV\, 10 Rue des Louviers\, Saint-Germain-en-Laye\, 78100
CATEGORIES:Évènements Artistiques
ATTACH;FMTTYPE=image/jpeg:https://artnco.org/wp-content/uploads/2023/10/Art-Exhibition.jpg
END:VEVENT
BEGIN:VEVENT
DTSTART;TZID=Europe/Paris:20230930T140000
DTEND;TZID=Europe/Paris:20231015T180000
DTSTAMP:20260424T104715
CREATED:20230930T154710Z
LAST-MODIFIED:20231008T171216Z
UID:5848-1696082400-1697392800@artnco.org
SUMMARY:Biennale de la Peinture
DESCRIPTION:Exposition artistes vicinois et non vicinois \nMaison Deauville\nentrée libre\ndu samedi 30 septembre au dimanche 15 octobre\nTous les jours\, de 14 heures à 18 heures \nPlusieurs prix seront remis\, dont un prix du public\nVenez voter pour votre oeuvre préférée !
URL:https://artnco.org/event/biennale-de-la-peinture/
LOCATION:Maison Decauville\, 5 Pl. de la Division Leclerc\, Voisins-le-Bretonneux\, 78960
CATEGORIES:Évènements Artistiques
ATTACH;FMTTYPE=image/jpeg:https://artnco.org/wp-content/uploads/2023/09/Biennale-de-la-Peinture-1.jpg
END:VEVENT
END:VCALENDAR