BEGIN:VCALENDAR
VERSION:2.0
PRODID:-//ArtˈnCo - ECPv6.13.2.1//NONSGML v1.0//EN
CALSCALE:GREGORIAN
METHOD:PUBLISH
X-WR-CALNAME:ArtˈnCo
X-ORIGINAL-URL:https://artnco.org
X-WR-CALDESC:Évènements pour ArtˈnCo
REFRESH-INTERVAL;VALUE=DURATION:PT1H
X-Robots-Tag:noindex
X-PUBLISHED-TTL:PT1H
BEGIN:VTIMEZONE
TZID:Europe/Paris
BEGIN:DAYLIGHT
TZOFFSETFROM:+0100
TZOFFSETTO:+0200
TZNAME:CEST
DTSTART:20230326T010000
END:DAYLIGHT
BEGIN:STANDARD
TZOFFSETFROM:+0200
TZOFFSETTO:+0100
TZNAME:CET
DTSTART:20231029T010000
END:STANDARD
END:VTIMEZONE
BEGIN:VEVENT
DTSTART;TZID=Europe/Paris:20231118T140000
DTEND;TZID=Europe/Paris:20231126T183000
DTSTAMP:20260424T123350
CREATED:20230913T114549Z
LAST-MODIFIED:20230913T114930Z
UID:5803-1700316000-1701023400@artnco.org
SUMMARY:10ème Salon d'Art HR Ombres et Lumières
DESCRIPTION:Invitée d’honneur : Nathalie Camoin-Chanet – sculpteure
URL:https://artnco.org/event/10eme-salon-dart-hr-ombres-et-lumieres/
LOCATION:Espace Boris Vian\, Rue Jean Moulin\, Achères\, Yvelines\, 78260\, France
CATEGORIES:Évènements Artistiques
ATTACH;FMTTYPE=image/jpeg:https://artnco.org/wp-content/uploads/2023/07/affiche-salon-des-arts-HR-2023-scaled.jpg
END:VEVENT
BEGIN:VEVENT
DTSTART;TZID=Europe/Paris:20231118T100000
DTEND;TZID=Europe/Paris:20231119T180000
DTSTAMP:20260424T123350
CREATED:20231024T235800Z
LAST-MODIFIED:20231025T114306Z
UID:6013-1700301600-1700416800@artnco.org
SUMMARY:36ème Salon d'Automne de Chapet
DESCRIPTION:Invitée d’honneur Isabelle Ruscher \n  \n18 et 19 novembre de 10h à 12h et de 14h à 18h \nFoyer rural\, rue du Pavillon \n 
URL:https://artnco.org/event/36eme-salon-dautomne-de-chapet/
LOCATION:Foyer Rural – Chapet\, Rue du Pavillon\, Chapet\, 78130\, France
CATEGORIES:Évènements Artistiques
ATTACH;FMTTYPE=image/jpeg:https://artnco.org/wp-content/uploads/2023/10/salon-automne-scaled.jpg
END:VEVENT
BEGIN:VEVENT
DTSTART;TZID=Europe/Paris:20231117T140000
DTEND;TZID=Europe/Paris:20231119T183000
DTSTAMP:20260424T123350
CREATED:20231115T132437Z
LAST-MODIFIED:20231115T132437Z
UID:6073-1700229600-1700418600@artnco.org
SUMMARY:29ème Salon Automnal
DESCRIPTION:Peinture\, sculpture\, photographie : la 29ème édition du Salon automnal de Gargenville va mettre en lumière l’art sous toutes ses formes\, du 17 au 19 novembre prochain. \nL’invité d’honneur de cette année sera le peintre expressionniste Karim Zeriati.\nDirection la salle des fêtes de Gargenville\, le vendredi\, samedi et dimanche de 14h à 18 h 30 pour profiter de l’événement. Tous les peintres\, sculpteurs et photographes amateurs sont ­invités à venir exposer leur travail.
URL:https://artnco.org/event/29eme-salon-automnal/
LOCATION:Salle des fêtes de Gargenville\, Place du 8 mai 1945\, Gargenville\, 78440
CATEGORIES:Évènements Artistiques
ATTACH;FMTTYPE=image/jpeg:https://artnco.org/wp-content/uploads/2023/11/29e_Salon_Automnal.jpg
END:VEVENT
BEGIN:VEVENT
DTSTART;TZID=Europe/Paris:20231110T150000
DTEND;TZID=Europe/Paris:20231119T190000
DTSTAMP:20260424T123350
CREATED:20231026T231026Z
LAST-MODIFIED:20231105T171456Z
UID:6023-1699628400-1700420400@artnco.org
SUMMARY:Catherine Lenoir et Françoise Pierson "les Informelles"
DESCRIPTION:Louveciennes \nExpositions de la maison de l’étang \ndu 10 au 19 novembre de 15h à 19h du jeudi au dimanche \nou sur RDV
URL:https://artnco.org/event/catherine-lenoir-et-francoise-pierson-les-informelles/
LOCATION:Maison de l’étang\, 4\, rue de l'étang\, Louveciennes\, 78430
CATEGORIES:Évènements Artistiques
ATTACH;FMTTYPE=image/jpeg:https://artnco.org/wp-content/uploads/2023/10/louvecienne-scaled.jpg
END:VEVENT
BEGIN:VEVENT
DTSTART;VALUE=DATE:20231109
DTEND;VALUE=DATE:20231121
DTSTAMP:20260424T123350
CREATED:20231027T120557Z
LAST-MODIFIED:20231027T143532Z
UID:6031-1699516800-1700467199@artnco.org
SUMMARY:20ème Salon des Arts de l'association Contrastes
DESCRIPTION:Le 20ème Salon des Arts de l’association Contrastes à Sartrouville\, Yvelines aura lieu du 9 au 19 novembre 2023 à l’Espace Saint-Paul\, 19 rue des Rosiers\, 78500 Sartrouville. \nInvitée d’Honneur : Viviane Beaufumé\, artiste peintre
URL:https://artnco.org/event/contrastes/
LOCATION:Espace Saint-Paul\, 19 Rue des Rosiers\, Sartrouville\, 78500\, France
CATEGORIES:Évènements Artistiques
ATTACH;FMTTYPE=image/jpeg:https://artnco.org/wp-content/uploads/2023/10/Affiche-Salon-2023-Sartrouville.jpg
END:VEVENT
BEGIN:VEVENT
DTSTART;TZID=Europe/Paris:20231104T080000
DTEND;TZID=Europe/Paris:20231208T170000
DTSTAMP:20260424T123350
CREATED:20231104T115102Z
LAST-MODIFIED:20231104T115102Z
UID:6059-1699084800-1702054800@artnco.org
SUMMARY:Peintures de Jean Gounin
DESCRIPTION:La Société Artistique de Beaumont présente les peintures de Jean Gounin. \n20 toiles récentes sont présentées à l’Hôtel du Croissant visibles les mercredis de 15 h à 17h et les samedis de de 11h à 17h
URL:https://artnco.org/event/peintures-de-jean-gounin/
LOCATION:Hôtel du Croissant\, 2 Rue Basse de la Vallée\, Beaumont-sur-Oise\, 95260
CATEGORIES:Évènements Artistiques
ATTACH;FMTTYPE=image/jpeg:https://artnco.org/wp-content/uploads/2023/11/DSC_0165-scaled.jpg
END:VEVENT
BEGIN:VEVENT
DTSTART;TZID=Europe/Paris:20231031T143000
DTEND;TZID=Europe/Paris:20231125T190000
DTSTAMP:20260424T123350
CREATED:20231006T164442Z
LAST-MODIFIED:20231013T135953Z
UID:5876-1698762600-1700938800@artnco.org
SUMMARY:Exposition Véronique Vincenti
DESCRIPTION:DU MARDI 31 OCTOBRE AU SAMEDI 25 NOVEMBRE 2023\n\n« J’aime voir naître sous mes yeux une œuvre quasi-photographique. Mes sujets de prédilection sont les paysages de ma ville : Poissy et ses villages pittoresques\, ses fenêtres\, ses portes\, ses chats… » \n\n\nAutodidacte\, admiratrice de la peinture impressionniste\, elle se découvre tôt un goût prononcé pour le dessin et la peinture. Elle se consacre d’abord aux copies d’œuvres de Corot\, Sisley\, Pissaro ou Morisot. Pratiquant principalement la gouache\, elle s’essaye au réalisme\, à la reproduction fidèle et précise de la nature et des vieilles pierres. \n\n\n\n\n\n\n\n\n\n\n\n\n\n\n\n\n\n  \nDATES ET HORAIRES\n\nMardi 31 octobre\, 14:00 – Samedi 25 novembre\, 18:30\n\n\n\n  \nINFOS PRATIQUES\n\nEntrée libre et gratuite\, aux horaires d’ouverture de la Médiathèque. \nMardi et jeudi : de 14h à 18h30\nMercredi et samedi\, en continu : de 10h à 18h30\nVendredi : de 14h à 19h \nVernissage en présence de l’artiste le vendredi 3 novembre 2023 à 18h.
URL:https://artnco.org/event/exposition-veronique-vincenti/
LOCATION:Médiathèque Pierre Amouroux\, Rue Hérault de Séchelles\, Épône\, 78680
CATEGORIES:Évènements Artistiques
ATTACH;FMTTYPE=image/jpeg:https://artnco.org/wp-content/uploads/2023/10/Exposition-Veronique-Vincenti-1.jpg
END:VEVENT
END:VCALENDAR