BEGIN:VCALENDAR
VERSION:2.0
PRODID:-//ArtˈnCo - ECPv6.13.2.1//NONSGML v1.0//EN
CALSCALE:GREGORIAN
METHOD:PUBLISH
X-WR-CALNAME:ArtˈnCo
X-ORIGINAL-URL:https://artnco.org
X-WR-CALDESC:Évènements pour ArtˈnCo
REFRESH-INTERVAL;VALUE=DURATION:PT1H
X-Robots-Tag:noindex
X-PUBLISHED-TTL:PT1H
BEGIN:VTIMEZONE
TZID:Europe/Paris
BEGIN:DAYLIGHT
TZOFFSETFROM:+0100
TZOFFSETTO:+0200
TZNAME:CEST
DTSTART:20230326T010000
END:DAYLIGHT
BEGIN:STANDARD
TZOFFSETFROM:+0200
TZOFFSETTO:+0100
TZNAME:CET
DTSTART:20231029T010000
END:STANDARD
END:VTIMEZONE
BEGIN:VEVENT
DTSTART;TZID=Europe/Paris:20231124T080000
DTEND;TZID=Europe/Paris:20231223T170000
DTSTAMP:20260422T111707
CREATED:20231205T110838Z
LAST-MODIFIED:20231215T153506Z
UID:6198-1700812800-1703350800@artnco.org
SUMMARY:44ème Salon l'Art à Fontenay
DESCRIPTION:Dans la médiathèque de Fontenay-aux Roses \nVERNISSAGE VENDREDI 8 DECEMBRE 18H30 \nConférence\, rencontres avec les artistes\, projection cinéma…
URL:https://artnco.org/event/44eme-salon-lart-a-fontenay/
LOCATION:Médiathèque Fontenay-aux-Roses\, 6\, place du Château Sainte-Barbe\, Fontenay-aux-Roses\, 92260
CATEGORIES:Évènements Artistiques
ATTACH;FMTTYPE=image/jpeg:https://artnco.org/wp-content/uploads/2023/12/44eme-Salon-dArt-de-Fontenay-les-Roses.jpg
END:VEVENT
END:VCALENDAR