BEGIN:VCALENDAR
VERSION:2.0
PRODID:-//ArtˈnCo - ECPv6.13.2.1//NONSGML v1.0//EN
CALSCALE:GREGORIAN
METHOD:PUBLISH
X-WR-CALNAME:ArtˈnCo
X-ORIGINAL-URL:https://artnco.org
X-WR-CALDESC:Évènements pour ArtˈnCo
REFRESH-INTERVAL;VALUE=DURATION:PT1H
X-Robots-Tag:noindex
X-PUBLISHED-TTL:PT1H
BEGIN:VTIMEZONE
TZID:Europe/Paris
BEGIN:DAYLIGHT
TZOFFSETFROM:+0100
TZOFFSETTO:+0200
TZNAME:CEST
DTSTART:20240331T010000
END:DAYLIGHT
BEGIN:STANDARD
TZOFFSETFROM:+0200
TZOFFSETTO:+0100
TZNAME:CET
DTSTART:20241027T010000
END:STANDARD
END:VTIMEZONE
BEGIN:VEVENT
DTSTART;TZID=Europe/Paris:20240309T140000
DTEND;TZID=Europe/Paris:20240317T200000
DTSTAMP:20260422T035513
CREATED:20240310T105441Z
LAST-MODIFIED:20240310T105441Z
UID:7240-1709992800-1710705600@artnco.org
SUMMARY:44ème Salon d’art de Verrières-le-Buisson
DESCRIPTION:Le 44e Salon d’Art de Verrières-le-Buisson vous ouvrira ses portes du samedi 9 au dimanche 17 mars 2024 à l’Espace Bernard Mantienne. Venez découvrir les œuvres de Claire Hur et Jean-François Pillon\, nos invités d’honneur\, mais également celles des signatures connues de Verrières-le-Buisson ou celles de nouveaux artistes.
URL:https://artnco.org/event/44eme-salon-dart-de-verrieres-le-buisson/
LOCATION:Espace Bernard Mantienne\, 3 voie de l'Aulne\, Verrières-le-Buisson\, 91370
CATEGORIES:Évènements Artistiques
ATTACH;FMTTYPE=image/jpeg:https://artnco.org/wp-content/uploads/2024/03/44eme-Salon-des-Arts-de-Verrieres-le-Buisson-1.jpg
END:VEVENT
BEGIN:VEVENT
DTSTART;TZID=Europe/Paris:20240309T100000
DTEND;TZID=Europe/Paris:20240310T180000
DTSTAMP:20260422T035513
CREATED:20240303T133713Z
LAST-MODIFIED:20240303T133713Z
UID:7061-1709978400-1710093600@artnco.org
SUMMARY:Salon des Arts à Porcheville
DESCRIPTION:La mairie de Porcheville met à l’honneur les artistes les 9 et 10 mars 2024 ! \nProfessionnels et amateurs sont les bienvenus. \nSeules consignes : la bonne humeur et la convivialité dans ce Salon où le partage est à l’honneur. \nCette année\, le thème proposé (et non imposé) est : “Sur l’étagère…” \nOù se trouve cette étagère ? Qu’y a-t-il dessus ? à vous de voir 😉 \nInvitée d’honneur : Nicole Ventura\, artiste aux multiples facettes et Porchevilloise de surcroît ! \nLe public est invité à voter pour 3 catégories : \n– Coup de coeur catégorie “Toile” \n– Coup de coeur catégorie “Sculpture” \n– Coup de coeur catégorie “Thème : Sur l’étagère” \nAnimation gratuite proposée aux enfants le samedi de 14h30 à 17h30 : \nDaïa\, artiste peintre exposant au Salon\, propose aux enfants de réaliser leur propre toile sur le thème du Printemps (toile et matériel fourni)\nPas d’inscription au préalable mais attention\, nombre de place limité !
URL:https://artnco.org/event/salon-des-arts-a-porcheville/
LOCATION:Salle des Fêtes de Porcheville\, 17 Bd de la République\, Porcheville\, 78440
CATEGORIES:Évènements Artistiques
ATTACH;FMTTYPE=image/jpeg:https://artnco.org/wp-content/uploads/2024/03/Salon-des-Arts-de-Porcheville.jpg
ORGANIZER;CN="Mairie de Porcheville":MAILTO:hotel-de-ville@mairie-porcheville.fr
END:VEVENT
BEGIN:VEVENT
DTSTART;TZID=Europe/Paris:20240308T140000
DTEND;TZID=Europe/Paris:20240329T180000
DTSTAMP:20260422T035513
CREATED:20240301T110912Z
LAST-MODIFIED:20240301T112812Z
UID:6900-1709906400-1711735200@artnco.org
SUMMARY:Rencontres Textiles
DESCRIPTION:C’est avec grand plaisir que je vous invite à l’exposition Rencontres Textiles\,\noù Tatiana Olea et Sylvie Bourgougnon exposeront Textiles et sculptures.\nVernissage le 8 mars à 19h.\nL’exposition restera ouverte jusqu’au 29 mars.\nTatiana sera présente tous les après-midi de la semaine de 14h à 18h\, sauf le mercredi.\njours et horaires d’ouverture:\nMardi et jeudi 14h-18h\nMercredi et samei 10h-12h / 14h -18h\nVendredi et dimanche  15h-18h
URL:https://artnco.org/event/rencontres-textiles/
LOCATION:Espace Rosa Bonheur\, 20\, Avenue Jean Moulin\, Fontenay-aux-Roses\, 92260\, France
CATEGORIES:Évènements Artistiques,Expositions
ATTACH;FMTTYPE=image/jpeg:https://artnco.org/wp-content/uploads/2024/03/tat.jpg
END:VEVENT
BEGIN:VEVENT
DTSTART;TZID=Europe/Paris:20240302T090000
DTEND;TZID=Europe/Paris:20240310T170000
DTSTAMP:20260422T035513
CREATED:20240302T181913Z
LAST-MODIFIED:20240303T194649Z
UID:7029-1709370000-1710090000@artnco.org
SUMMARY:Salon d’Art du Colombier
DESCRIPTION:Du 2 au 10 mars 2024\, le Salon d’Art du Colombier clôturera sa troisième décennie. Il est l’œuvre à part entière des bénévoles d’Art Passion Arnolphien. Chaque année\, les visiteurs découvrent de nouveaux artistes et de nouvelles œuvres\, à l’image des deux invités d’honneur qui exposeront pour la première fois au Colombier : Régine TAGLIANA et Serge GUARNIERI.
URL:https://artnco.org/event/salon-d-art-du-colombier/
LOCATION:Le Colombier\, 1 Rue Louis Genet\, Saint-Arnoult-en-Yvelines\, 78730
CATEGORIES:Évènements Artistiques
ATTACH;FMTTYPE=image/webp:https://artnco.org/wp-content/uploads/2024/03/30eme-Salon-dArt-du-Colombier.webp
ORGANIZER;CN="Art Passion Arnolphien":MAILTO:artpassionarnolphien@gmail.com
END:VEVENT
BEGIN:VEVENT
DTSTART;TZID=Europe/Paris:20240301T150000
DTEND;TZID=Europe/Paris:20240317T190000
DTSTAMP:20260422T035513
CREATED:20240217T162629Z
LAST-MODIFIED:20240306T151847Z
UID:6673-1709305200-1710702000@artnco.org
SUMMARY:Le monde Imaginaire
DESCRIPTION:EXPOSITION Théâtre du Vésinet\, 59 Boulevard Carnot\, 78110 LE VESINET – 11ème exposition\ndu 1er au 17 Mars 2024 \nVernissage le mercredi 6 mars à 17h00. \nEntrée libre – Tous les jours de : 15h à 19h – fermé le lundi\nDimanche de 14h à 18h
URL:https://artnco.org/event/le-monde-imaginaire-2/
LOCATION:Théatre du Vésinet\, 59\, Boulevard Carnot\, Le Vésinet\, 78110\, France
CATEGORIES:Évènements Artistiques
ATTACH;FMTTYPE=image/jpeg:https://artnco.org/wp-content/uploads/2024/02/1-Affiche-Le-Vesinet-2024-Mars-scaled.jpg
ORGANIZER;CN="Le V%C3%A9sin%E2%80%99ART":MAILTO:levesinart@gmail.com
END:VEVENT
BEGIN:VEVENT
DTSTART;TZID=Europe/Paris:20240301T110000
DTEND;TZID=Europe/Paris:20240331T150000
DTSTAMP:20260422T035513
CREATED:20240220T143224Z
LAST-MODIFIED:20240220T143321Z
UID:6792-1709290800-1711897200@artnco.org
SUMMARY:Exposition Lord Wilmore
DESCRIPTION:Le 1er Mars à 19h30\, vernissage de l’exposition Lord Wilmore Au vieux nain grincheux (rue de la Victoire\, 75009)\n\n\nEt ce soir-là\, Lord… (accent comme dans Rabbi Jacob) “il via un ptit pieu chantié !”
URL:https://artnco.org/event/exposition-lord-wilmore/
LOCATION:Au Vieux Nain Grincheux\, 34 Rue de la Victoire\, Paris\, 75009
CATEGORIES:Évènements Artistiques
ATTACH;FMTTYPE=image/jpeg:https://artnco.org/wp-content/uploads/2024/02/Lord-Willmore-Au-vieux-nain-grincheux.jpg
END:VEVENT
BEGIN:VEVENT
DTSTART;TZID=Europe/Paris:20240127T120000
DTEND;TZID=Europe/Paris:20240323T150000
DTSTAMP:20260422T035513
CREATED:20240203T190058Z
LAST-MODIFIED:20240203T190058Z
UID:6590-1706356800-1711206000@artnco.org
SUMMARY:Chez Angèle
DESCRIPTION:Exposition au restaurant d’Angèle à Beauvais
URL:https://artnco.org/event/chez-angele/
LOCATION:Angèle\, 59 Rue Desgroux\, Beauvais\, 60000\, France
CATEGORIES:Évènements Artistiques
ATTACH;FMTTYPE=image/jpeg:https://artnco.org/wp-content/uploads/2024/01/Quand-Solange-sallonge-huile-sur-toile-61-x-50-cm-scaled.jpg
ORGANIZER;CN="Jean Gounin":MAILTO:jgounin@gmail.com
END:VEVENT
END:VCALENDAR