BEGIN:VCALENDAR
VERSION:2.0
PRODID:-//ArtˈnCo - ECPv6.13.2.1//NONSGML v1.0//EN
CALSCALE:GREGORIAN
METHOD:PUBLISH
X-WR-CALNAME:ArtˈnCo
X-ORIGINAL-URL:https://artnco.org
X-WR-CALDESC:Évènements pour ArtˈnCo
REFRESH-INTERVAL;VALUE=DURATION:PT1H
X-Robots-Tag:noindex
X-PUBLISHED-TTL:PT1H
BEGIN:VTIMEZONE
TZID:Europe/Paris
BEGIN:DAYLIGHT
TZOFFSETFROM:+0100
TZOFFSETTO:+0200
TZNAME:CEST
DTSTART:20240331T010000
END:DAYLIGHT
BEGIN:STANDARD
TZOFFSETFROM:+0200
TZOFFSETTO:+0100
TZNAME:CET
DTSTART:20241027T010000
END:STANDARD
END:VTIMEZONE
BEGIN:VEVENT
DTSTART;TZID=Europe/Paris:20240413T080000
DTEND;TZID=Europe/Paris:20240512T170000
DTSTAMP:20260422T021419
CREATED:20240302T175203Z
LAST-MODIFIED:20240302T175319Z
UID:7018-1712995200-1715533200@artnco.org
SUMMARY:arTalents 2024
DESCRIPTION:Le concours d’arts visuels arTalents\, proposé chaque année par la Ville à la Salle d’exposition à Villaroy\, présente une sélection d’œuvres de différentes techniques (peinture\, estampe\, photographie\, sculpture\, dessin\, techniques mixtes\, techniques numériques…)\, choisies par un jury de professionnels. \nLes artistes souhaitant exposer leurs créations (3 œuvres maximum par personne)\, soumises au regard de l’invitée d’honneur et des membres du jury de sélection\, peuvent déposer leurs candidatures jusqu’au 1er mars 2024 minuit auprès du service Arts visuels de la Ville. \nClaire Pathé\, photographe et commissaire d’exposition sera l’invitée d’honneur de cette 9ème édition qui se tiendra du 13 avril au 12 mai 2024 à la Salle d’exposition.
URL:https://artnco.org/event/artalents-2024/
LOCATION:Salle d’exposition Guyancourt\, 11\, place Pierre-Bérégovoy\, Guyancourt\, 78280\, France
CATEGORIES:Évènements Artistiques
ATTACH;FMTTYPE=image/jpeg:https://artnco.org/wp-content/uploads/2022/12/Artalents-2023.jpg
ORGANIZER;CN="Service Action Culturelle - Guyancourt":MAILTO:action.culturelle@ville-guyancourt.fr
END:VEVENT
BEGIN:VEVENT
DTSTART;VALUE=DATE:20240404
DTEND;VALUE=DATE:20240504
DTSTAMP:20260422T021419
CREATED:20240318T215905Z
LAST-MODIFIED:20240318T215905Z
UID:7325-1712217600-1714723199@artnco.org
SUMMARY:Exposition Sabrina His au Club Péguy
DESCRIPTION:Peinture par Sabrina His\nVernissage le 4 avril à 19h
URL:https://artnco.org/event/exposition-sabrina-his-au-club-peguy/
LOCATION:Club Péguy\, 32 bis Fernand Lefebvre\, Poissy\, 78300\, France
CATEGORIES:Évènements Artistiques
ATTACH;FMTTYPE=image/jpeg:https://artnco.org/wp-content/uploads/2024/03/flyer-site-his-580x820-1.jpg
ORGANIZER;CN="Club Peguy":MAILTO:club.peguy@orange.fr
END:VEVENT
BEGIN:VEVENT
DTSTART;VALUE=DATE:20240402
DTEND;VALUE=DATE:20240501
DTSTAMP:20260422T021419
CREATED:20240405T164847Z
LAST-MODIFIED:20240405T164905Z
UID:7056-1712044800-1714463999@artnco.org
SUMMARY:Empire Yann Verrier Sauvaire
DESCRIPTION:Bonjour à toutes et tous \nVoici l’ultime compte à rebours concernant mon exposition Empire que j’aurais le plaisir de vous dévoiler dans son intégralité du 2 au 27 avril 2024.\nEn attendant et à partir d’aujourd’hui\, vous pouvez précommander le catalogue de l’exposition au tarif préférentiel de 30€ au lieu de 35€ avec une dédicace. Il s’agit d’une offre réservée aux 50 premières réservations.\nL’édition est signée et numérotée sur 100. Ce catalogue de 74 pages reprend l’ensemble des 55 photos en noir et blanc et pour la première fois également en couleurs. \nPour réserver votre exemplaire\, c’est très simple envoyez moi un message : verrieryann2000@yahoo.fr \n.Une fois la pré commande validée\,vous pourrez récupérer votre exemplaire signé et dédicacé directement pendant la durée de l’exposition à la galerie Rastoll 16 rue Sainte Anastase 75003 Paris du 2 au 27 avril 2024.Vous avez également la possibilité de recevoir votre exemplaire en rajoutant 5€ pour les frais de livraison.\nSi vous pouviez faire circuler cette information\, je vous serais reconnaissant. Merci d’avance.\nMerci à vous pour votre soutien.\nYann Verrier Sauvaire
URL:https://artnco.org/event/empire-yann-verrier-sauvaire/
LOCATION:Galerie Rastoll\, 16 rue Sainte Anastase\, Paris\, 75003
CATEGORIES:Évènements Artistiques
ATTACH;FMTTYPE=image/jpeg:https://artnco.org/wp-content/uploads/2024/03/IMG_4783-scaled.jpeg
END:VEVENT
BEGIN:VEVENT
DTSTART;TZID=Europe/Paris:20240327T153000
DTEND;TZID=Europe/Paris:20240505T193000
DTSTAMP:20260422T021419
CREATED:20240217T162824Z
LAST-MODIFIED:20240322T194038Z
UID:6684-1711553400-1714937400@artnco.org
SUMMARY:Berthe & Edgar Période S Abstraction
DESCRIPTION:Exposition d’une dizaine d’artistes spécialistes en Abstrait.\nA la galerie BERTHE & EDGAR\, du 27 Mars au 5 Mai 2024.\nHoraires ouvert les :\nMercredi de 15h30 à 19h30\nJeudi de 15h30 à 19h30\nVendredi de 15h30 à 19h30\nSamedi de 10h30 à 13h et de 15h30 à 19h30\nDimanche de 10h30 à 13h
URL:https://artnco.org/event/berthe-edgar-periode-s-abstraction/
LOCATION:Galerie Berthe et Edgar\, 6 Place Sainte-Marie\, Chatou\, 78400\, France
CATEGORIES:Évènements Artistiques
ATTACH;FMTTYPE=image/jpeg:https://artnco.org/wp-content/uploads/2024/02/Berthe-et-Edgar-Abstraction.jpg
END:VEVENT
END:VCALENDAR