BEGIN:VCALENDAR
VERSION:2.0
PRODID:-//ArtˈnCo - ECPv6.13.2.1//NONSGML v1.0//EN
CALSCALE:GREGORIAN
METHOD:PUBLISH
X-WR-CALNAME:ArtˈnCo
X-ORIGINAL-URL:https://artnco.org
X-WR-CALDESC:Évènements pour ArtˈnCo
REFRESH-INTERVAL;VALUE=DURATION:PT1H
X-Robots-Tag:noindex
X-PUBLISHED-TTL:PT1H
BEGIN:VTIMEZONE
TZID:Europe/Paris
BEGIN:DAYLIGHT
TZOFFSETFROM:+0100
TZOFFSETTO:+0200
TZNAME:CEST
DTSTART:20240331T010000
END:DAYLIGHT
BEGIN:STANDARD
TZOFFSETFROM:+0200
TZOFFSETTO:+0100
TZNAME:CET
DTSTART:20241027T010000
END:STANDARD
END:VTIMEZONE
BEGIN:VEVENT
DTSTART;TZID=Europe/Paris:20240511T100000
DTEND;TZID=Europe/Paris:20240519T180000
DTSTAMP:20260422T004229
CREATED:20240511T120625Z
LAST-MODIFIED:20240511T120625Z
UID:7944-1715421600-1716141600@artnco.org
SUMMARY:14ème Salon du Pastel
DESCRIPTION:Le salon sera ouvert de 14h00 à 18h00 en semaine et de 10h à 18h le week-end.
URL:https://artnco.org/event/14eme-salon-du-pastel/
LOCATION:Salle Polyvalente Lucien Burckel\, Le Bellay-en-Vexin\, 95750
CATEGORIES:Évènements Artistiques
ATTACH;FMTTYPE=image/jpeg:https://artnco.org/wp-content/uploads/2024/05/14eme-Salon-du-Pastel.jpg
END:VEVENT
BEGIN:VEVENT
DTSTART;VALUE=DATE:20240511
DTEND;VALUE=DATE:20240528
DTSTAMP:20260422T004229
CREATED:20240509T113229Z
LAST-MODIFIED:20240509T113229Z
UID:7899-1715414400-1716796799@artnco.org
SUMMARY:Poissy fait son Festival
DESCRIPTION:FRANCK STROMME MET LE CINÉMA EN LUMIÈRE\n\n\nPrêts à rembobiner les pellicules et savourer une plongée exceptionnelle dans l’histoire du 7e art ? A l’occasion de la 77e édition du festival de Cannes\, programmé du mardi 14 au samedi 25 mai\, le photographe pisciacais Franck Stromme\, en partenariat avec la Ville\, nous propose une sélection de ses plus beaux clichés argentiques dédiés aux tournages et aux stars du cinéma. Direction le parvis de l’Hôtel de Ville\, la Médiathèque Christine-de-Pizan et le cinéma UGC pour savourer des images inédites\, réalisées entre les années 1986 et 1987\, à Paris\, à Cannes\, en Italies\, aussi bien sur des plateaux de tournages en extérieur qu’en studio. \nLES RENDEZ-VOUS\n\nPlace de la République accueillera du samedi 11 au dimanche 26 mai\, une exposition de 16 panneaux pour des rencontres uniques avec Fanny Ardant\, Clint Eastwood\, Carole Bouquet\, John Travolta ou encore Lino Ventura.\nLe cinéma UGC (112\, rue du Général-de-Gaulle)\, proposera en écho d’autres portraits d’artistes iconiques sur toiles\, aux mêmes dates. A découvrir dans le hall du cinéma en accès libre/A noter que l’UGC de Poissy diffusera la montée des marches et la cérémonie d’ouverture du 77e festival de Cannes mardi 14 mai à 19h\, suivie de la projection du film d’ouverture : “Deuxième acte”\, de Quentin Dupieux. Infos et tarifs : Cinéma UGC POISSY C2L Poissy – UGC.fr\n\n\nLa Médiathèque Christine-de-Pizan (31\, avenue Maurice-Berteaux)\, du samedi 11 mai au samedi 8 juin\, sera l’hôte d’une exposition inédite consacrée à l’un des plus grands chefs opérateurs français\, Henri Alekan\, accompagné durant plusieurs années par Franck Stromme sur des tournages et festivals. Pour prolonger l’expérience\, les bibliothécaires vous proposeront de (re)découvrir le mercredi 15 mai à 20h un chef d’œuvre du cinéma allemand : “Les ailes du désir”\, réalisé par Wim Wender et mis en lumière par Henri Alekan.
URL:https://artnco.org/event/poissy-fait-son-festival/
LOCATION:Place de la République\, Poissy\, 78300\, France
CATEGORIES:Évènements Artistiques
ATTACH;FMTTYPE=image/jpeg:https://artnco.org/wp-content/uploads/2024/05/Exposition-Franck-Stromme.jpg
END:VEVENT
BEGIN:VEVENT
DTSTART;VALUE=DATE:20240510
DTEND;VALUE=DATE:20240812
DTSTAMP:20260422T004229
CREATED:20240511T115859Z
LAST-MODIFIED:20240511T121335Z
UID:7939-1715328000-1723363199@artnco.org
SUMMARY:Exposition Véronique Vincenti - Les étangs de Corot
DESCRIPTION:Pour célébrer les 150ans de l’impressionnisme\, venez découvrir les peintures de Véronique Vincenti et ses reproductions de Jean-Bapstiste Camille Corot\, à découvrir du 10 mai au 10 aout.\n\n\n“Je me suis d’abord consacrée à la copie d’œuvres de Corot\, Sisley\, Pissaro\, Morisot… Sans autre formation artistique\, pratiquant surtout la gouache\, je me suis ensuite attachée au réalisme\, à la reproduction fidèle et précise de la nature et des vieilles pierres. J’aime voir naître sous mes yeux une œuvre quasi-photographique.”\n\n\nNous vous attendons nombreux !
URL:https://artnco.org/event/exposition-veronique-vincenti-les-etangs-de-corot/
LOCATION:Les Etangs de Corot\, 55 Rue de Versailles\, Ville-d'Avray\, 92410
CATEGORIES:Évènements Artistiques
ATTACH;FMTTYPE=image/jpeg:https://artnco.org/wp-content/uploads/2024/05/Veronique-Vincenti-Etangs-de-Corot-1.jpg
END:VEVENT
BEGIN:VEVENT
DTSTART;TZID=Europe/Paris:20240425T080000
DTEND;TZID=Europe/Paris:20240526T170000
DTSTAMP:20260422T004229
CREATED:20240429T071215Z
LAST-MODIFIED:20240429T093456Z
UID:7824-1714032000-1716742800@artnco.org
SUMMARY:Cercle des Artistes de Paris
DESCRIPTION:Peinture\, sculpture\, gravure\, photographie…
URL:https://artnco.org/event/cercle-des-artistes-de-paris-2/
LOCATION:Pavillon 18\, Parc Floral de Paris\, Bois de Vincennes\, Entrée Nymphéas\, Paris\, 75012\, France
CATEGORIES:Évènements Artistiques
ATTACH;FMTTYPE=image/jpeg:https://artnco.org/wp-content/uploads/2024/04/Cercle-des-Artistes-de-Paris.jpg
END:VEVENT
BEGIN:VEVENT
DTSTART;TZID=Europe/Paris:20240413T080000
DTEND;TZID=Europe/Paris:20240512T170000
DTSTAMP:20260422T004229
CREATED:20240302T175203Z
LAST-MODIFIED:20240302T175319Z
UID:7018-1712995200-1715533200@artnco.org
SUMMARY:arTalents 2024
DESCRIPTION:Le concours d’arts visuels arTalents\, proposé chaque année par la Ville à la Salle d’exposition à Villaroy\, présente une sélection d’œuvres de différentes techniques (peinture\, estampe\, photographie\, sculpture\, dessin\, techniques mixtes\, techniques numériques…)\, choisies par un jury de professionnels. \nLes artistes souhaitant exposer leurs créations (3 œuvres maximum par personne)\, soumises au regard de l’invitée d’honneur et des membres du jury de sélection\, peuvent déposer leurs candidatures jusqu’au 1er mars 2024 minuit auprès du service Arts visuels de la Ville. \nClaire Pathé\, photographe et commissaire d’exposition sera l’invitée d’honneur de cette 9ème édition qui se tiendra du 13 avril au 12 mai 2024 à la Salle d’exposition.
URL:https://artnco.org/event/artalents-2024/
LOCATION:Salle d’exposition Guyancourt\, 11\, place Pierre-Bérégovoy\, Guyancourt\, 78280\, France
CATEGORIES:Évènements Artistiques
ATTACH;FMTTYPE=image/jpeg:https://artnco.org/wp-content/uploads/2022/12/Artalents-2023.jpg
ORGANIZER;CN="Service Action Culturelle - Guyancourt":MAILTO:action.culturelle@ville-guyancourt.fr
END:VEVENT
END:VCALENDAR