BEGIN:VCALENDAR
VERSION:2.0
PRODID:-//ArtˈnCo - ECPv6.13.2.1//NONSGML v1.0//EN
CALSCALE:GREGORIAN
METHOD:PUBLISH
X-WR-CALNAME:ArtˈnCo
X-ORIGINAL-URL:https://artnco.org
X-WR-CALDESC:Évènements pour ArtˈnCo
REFRESH-INTERVAL;VALUE=DURATION:PT1H
X-Robots-Tag:noindex
X-PUBLISHED-TTL:PT1H
BEGIN:VTIMEZONE
TZID:Europe/Paris
BEGIN:DAYLIGHT
TZOFFSETFROM:+0100
TZOFFSETTO:+0200
TZNAME:CEST
DTSTART:20240331T010000
END:DAYLIGHT
BEGIN:STANDARD
TZOFFSETFROM:+0200
TZOFFSETTO:+0100
TZNAME:CET
DTSTART:20241027T010000
END:STANDARD
END:VTIMEZONE
BEGIN:VEVENT
DTSTART;TZID=Europe/Paris:20240525T103000
DTEND;TZID=Europe/Paris:20240602T180000
DTSTAMP:20260421T232723
CREATED:20240523T104854Z
LAST-MODIFIED:20240523T104854Z
UID:8058-1716633000-1717351200@artnco.org
SUMMARY:Salon des arts du Pecq
DESCRIPTION:Tous les ans\, le Salon des Arts est un événement culturel attendu et une vitrine essentielle pour les artistes du Pecq et des alentours.\nDifférentes techniques (dessin\, peinture\, gravure\, sculpture et photographie\, art numérique…) offrent une grande diversité de style et de talents.\nChaque année\, les membres de l’Atelier élisent un invité d’honneur parmi des artistes éminents proposés par le Président. \nAprès avoir accueilli Yao Adekplovi et Fabrice Denis en 2019\, Bernadette Goerger et Philippe Vandenberghe en 2020\, l’édition 2021 n’a pu avoir lieu que sur Internet pour cause de Covid. Ce fut l’occasion du 1er Salon Virtuel de l’AAA.\nEn mai 2022\, l’invité d’honneur était Jean Le Puil\, passionné par la vie urbaine\, les transports\, les voyages\, tandis que Sophie Boniface a présenté un focus sur ses laques. \nPour l’édition 2023 un évènement majeur est venu perturber le déroulé de la manifestation. Le Quai 3\, notre espace d’accueil historique\, est entré pour plusieurs années en travaux. Une fois achevés\, la salle demeurera exclusivement réservée au spectacle vivant. Le Salon s’est donc transporté au Pôle Wilson\, espace associatif situé de l’autre côté du pont du Pecq. \nUn volume d’exposition plus restreint nous a contraint à réduire la voilure. La peintre Cécile Guth était la seule artiste conviée pour l’édition 2023\, entourée de 83 autres exposants.\nL’avenir dira si la convivialité saura compenser ce que le prestige y a perdu. \nRappelons également qu’à chaque nouvelle édition du Salon\, une dizaine de prix sont décernés par les officiels du département.
URL:https://artnco.org/event/salon-des-arts-du-pecq-2/
LOCATION:Pole Wilson\, 6\, avenue de la Paix\, Le Pecq\, 78230
CATEGORIES:Évènements Artistiques
ATTACH;FMTTYPE=image/jpeg:https://artnco.org/wp-content/uploads/2024/05/Salon-des-Arts-du-Pecq-2024.jpg
ORGANIZER;CN="Les Artistes Alpicois":MAILTO:lesartistesalpicois@gmail.com
END:VEVENT
BEGIN:VEVENT
DTSTART;TZID=Europe/Paris:20240524T090000
DTEND;TZID=Europe/Paris:20240606T180000
DTSTAMP:20260421T232723
CREATED:20240524T194457Z
LAST-MODIFIED:20240524T194457Z
UID:8090-1716541200-1717696800@artnco.org
SUMMARY:64e édition du Salon des Beaux Arts de Garches
DESCRIPTION:81 artistes plasticiens font vivre cette édition 2024 du Salon. La peinture\, la sculpture\, la photographie\, la gravure\, le dessin\, ainsi que le travail du papier ou encore du textile y sont représentés. \nFrédérique Gourdon\, invitée d’honneur\, nous présente son travail autour des notions de traces\, d’empreintes et de passage du temps et investit l’espace avec une scénographie vivante et subtile de ses œuvres de papier\, fibres et fils entremêlés.
URL:https://artnco.org/event/64e-edition-du-salon-des-beaux-arts-de-garches/
LOCATION:Hôtel de Ville de Garches\, 2 rue Claude Liard\, Garches\, 92380
CATEGORIES:Évènements Artistiques
ATTACH;FMTTYPE=image/png:https://artnco.org/wp-content/uploads/2024/05/Capture-decran-2024-05-22-a-23.28.30.png
END:VEVENT
BEGIN:VEVENT
DTSTART;TZID=Europe/Paris:20240523T140000
DTEND;TZID=Europe/Paris:20240607T173000
DTSTAMP:20260421T232723
CREATED:20240522T140624Z
LAST-MODIFIED:20240522T140624Z
UID:8009-1716472800-1717781400@artnco.org
SUMMARY:Salon des Arts 2024
DESCRIPTION:Salon artistique annuel de Carrières-sous-Poissy \nInvitée d’honneur : Françoise Aniskine
URL:https://artnco.org/event/salon-des-arts-2024/
LOCATION:Hôtel de Ville de Carrière sous Poissy\, 1 place Saint-Blaise\, Carrières-sous-Poissy\, 78955
CATEGORIES:Évènements Artistiques
ATTACH;FMTTYPE=image/jpeg:https://artnco.org/wp-content/uploads/2024/05/SALON-DES-ARTS_2024.jpg
END:VEVENT
BEGIN:VEVENT
DTSTART;VALUE=DATE:20240523
DTEND;VALUE=DATE:20240618
DTSTAMP:20260421T232723
CREATED:20240415T193539Z
LAST-MODIFIED:20240415T193539Z
UID:7585-1716451200-1718611199@artnco.org
SUMMARY:Exposition Photo par le Club Péguy Photo
DESCRIPTION:Vernissage le jeudi 23 mai à 19h
URL:https://artnco.org/event/exposition-photo-par-le-club-peguy-photo/
LOCATION:Club Péguy\, 32 bis Fernand Lefebvre\, Poissy\, 78300\, France
CATEGORIES:Évènements Artistiques
ATTACH;FMTTYPE=image/jpeg:https://artnco.org/wp-content/uploads/2024/04/Expo-Photo-Club-Photo-Peguy.jpg
ORGANIZER;CN="Club Peguy":MAILTO:club.peguy@orange.fr
END:VEVENT
BEGIN:VEVENT
DTSTART;TZID=Europe/Paris:20240521T080000
DTEND;TZID=Europe/Paris:20240605T170000
DTSTAMP:20260421T232723
CREATED:20240515T170316Z
LAST-MODIFIED:20240515T170316Z
UID:7974-1716278400-1717606800@artnco.org
SUMMARY:33ème Salon des Arts - Montigny-le-Bretonneux
DESCRIPTION:Le 33ème Salon des arts ouvre ses portes le mardi 21 mai jusqu’au 5 juin. Prix de la photographie- sculpture- peinture- mentions coup de coeur par le jury Prix de tout public et jeune public par les visiteurs Remise des prix le mercredi 5 juin à 19h00
URL:https://artnco.org/event/33eme-salon-des-arts-montigny-le-bretonneux/
LOCATION:Conservatoire des Arts\, 1 Parvis des Sources\, Montigny-le-Bretonneux\, 78180\, France
CATEGORIES:Évènements Artistiques
ATTACH;FMTTYPE=image/jpeg:https://artnco.org/wp-content/uploads/2024/05/Salon-des-Arts-Montigny-le-Bretonneux-scaled.jpg
END:VEVENT
BEGIN:VEVENT
DTSTART;TZID=Europe/Paris:20240517T140000
DTEND;TZID=Europe/Paris:20240622T180000
DTSTAMP:20260421T232723
CREATED:20240511T075126Z
LAST-MODIFIED:20240511T123831Z
UID:7889-1715954400-1719079200@artnco.org
SUMMARY:Exposition Tête de l'Art Forbach
DESCRIPTION:EXPOSITION GALERIE\nTÊT’DE L’ART\n134 Rue Nationale\n57600 FORBACH\nDU 18 MAI AU 14 JUIN 2024\nvernissage le 17 mai à 18h
URL:https://artnco.org/event/exposition-tete-de-lart-forbach/
LOCATION:Galerie tête de l’art\, 134 rue Nationale\, Forbach\, Moselle\, 57600\, France
CATEGORIES:Évènements Artistiques
ATTACH;FMTTYPE=image/jpeg:https://artnco.org/wp-content/uploads/2024/05/Galerie-Tetde-lArt.jpg
ORGANIZER;CN="Jean Gounin":MAILTO:jgounin@gmail.com
END:VEVENT
BEGIN:VEVENT
DTSTART;TZID=Europe/Paris:20240516T103000
DTEND;TZID=Europe/Paris:20240531T180000
DTSTAMP:20260421T232723
CREATED:20240515T170805Z
LAST-MODIFIED:20240515T183356Z
UID:7960-1715855400-1717178400@artnco.org
SUMMARY:Colombia es el camino à Muisca Art Space Paris 4
DESCRIPTION:Exposition collective du 16 au 31 mai 2024\nDans le cadre de la semaine de l’amérique latine et des Caraïbes\, 2 pièces du DUO #espejosraices seront exposées\nTatiana Oléa designs et Lourdes Landmann Artiste seront présentées à The Muisca – art space Antero Moreno @anterolognes comme promoteur culturel.\nVernissage le jeudi 16 mai de 18h à 21h\n8 rue d’ormesson Paris 4\nEn présence des artistes et d’autres pièces très intéressantes d’artistes latino-américains\n#artistaperuana #artecontemporaneo # arteenparis
URL:https://artnco.org/event/colombia-es-el-camino-a-muisca-art-space-paris-4/
LOCATION:The Muisca Gallery\, 8 Rue d'Ormesson\, Paris\, 75004
CATEGORIES:Évènements Artistiques
ATTACH;FMTTYPE=image/jpeg:https://artnco.org/wp-content/uploads/2024/05/Format-Story-The-Muisca-Art-Space-Colombia-es-el-Camino-scaled.jpg
END:VEVENT
BEGIN:VEVENT
DTSTART;VALUE=DATE:20240510
DTEND;VALUE=DATE:20240812
DTSTAMP:20260421T232723
CREATED:20240511T115859Z
LAST-MODIFIED:20240511T121335Z
UID:7939-1715328000-1723363199@artnco.org
SUMMARY:Exposition Véronique Vincenti - Les étangs de Corot
DESCRIPTION:Pour célébrer les 150ans de l’impressionnisme\, venez découvrir les peintures de Véronique Vincenti et ses reproductions de Jean-Bapstiste Camille Corot\, à découvrir du 10 mai au 10 aout.\n\n\n“Je me suis d’abord consacrée à la copie d’œuvres de Corot\, Sisley\, Pissaro\, Morisot… Sans autre formation artistique\, pratiquant surtout la gouache\, je me suis ensuite attachée au réalisme\, à la reproduction fidèle et précise de la nature et des vieilles pierres. J’aime voir naître sous mes yeux une œuvre quasi-photographique.”\n\n\nNous vous attendons nombreux !
URL:https://artnco.org/event/exposition-veronique-vincenti-les-etangs-de-corot/
LOCATION:Les Etangs de Corot\, 55 Rue de Versailles\, Ville-d'Avray\, 92410
CATEGORIES:Évènements Artistiques
ATTACH;FMTTYPE=image/jpeg:https://artnco.org/wp-content/uploads/2024/05/Veronique-Vincenti-Etangs-de-Corot-1.jpg
END:VEVENT
END:VCALENDAR