BEGIN:VCALENDAR
VERSION:2.0
PRODID:-//ArtˈnCo - ECPv6.13.2.1//NONSGML v1.0//EN
CALSCALE:GREGORIAN
METHOD:PUBLISH
X-WR-CALNAME:ArtˈnCo
X-ORIGINAL-URL:https://artnco.org
X-WR-CALDESC:Évènements pour ArtˈnCo
REFRESH-INTERVAL;VALUE=DURATION:PT1H
X-Robots-Tag:noindex
X-PUBLISHED-TTL:PT1H
BEGIN:VTIMEZONE
TZID:Europe/Paris
BEGIN:DAYLIGHT
TZOFFSETFROM:+0100
TZOFFSETTO:+0200
TZNAME:CEST
DTSTART:20240331T010000
END:DAYLIGHT
BEGIN:STANDARD
TZOFFSETFROM:+0200
TZOFFSETTO:+0100
TZNAME:CET
DTSTART:20241027T010000
END:STANDARD
END:VTIMEZONE
BEGIN:VEVENT
DTSTART;TZID=Europe/Paris:20240928T080000
DTEND;TZID=Europe/Paris:20241006T170000
DTSTAMP:20260423T121009
CREATED:20240924T205013Z
LAST-MODIFIED:20240924T205042Z
UID:9372-1727510400-1728234000@artnco.org
SUMMARY:Le Génie des Jardins 2024
DESCRIPTION:Biennale internationale d’art contemporain dans les jardins du XIe\n  \nLa 11e édition du Génie des Jardins se tiendra cette année du 28 septembre au 6 octobre 2024 dans deux jardins du 11e arrondissement de Paris : le square Gardette et le square de la Roquette. \n  \nÀ l’occasion de sa Biennale d’art contemporain\, l’association Le Génie de la Bastille\, qui célèbre cette année ses 40 ans d’existence\, présentera neuf installations et une performance\, sélectionnés au regard de leur qualité\, de leur originalité et de leur pertinence artistique. \nEnsemble\, les artistes retenus revisitent l’espace des jardins. Et\, pour son anniversaire\, l’association vous invite à découvrir deux installations collectives composées de plusieurs centaines de pocket paintings. \nLES ARTISTES \nSquare de la Roquette \nARySQUE \nCaroline Fradet \nMehdi Yarmohammadi \nAdrien Van Nieuwenhuyzen \nCAS123 – Cristina Oliosi\, Alice Sidoli\, Sylvette Gassan \nSquare Gardette \nMieke Vasse \nDanielle Loisel \nWanda Torres \nCarol Fonteneau \nInstallation collective des artistes du Génie de la Bastille \nBalade gratuite avec « Ca se visite ! »\nVendredi 27 septembre à 17h30 \nRendez-vous à l’entrée du square de la Roquette à 17h30. 1h30 de balade à la rencontre des œuvres et des artistes qui vous emmèneront du square de la Roquette au square Gardette où se tiendra le vernissage \nVERNISSAGE\nVendredi 27 septembre à 19h dans le Kiosque du square Gardette \nAssistez également à la danse d’une araignée qui tisse sa toile avec la performeuse Carol Fonteneau. \n  \nLe dépliant du Génie des jardins 2024 – pdf \n 
URL:https://artnco.org/event/le-genie-des-jardins-2024/
LOCATION:Kiosque Square Gardette\, 2 Rue du Général Blaise\, Paris\, 75011
CATEGORIES:Évènements Artistiques
ATTACH;FMTTYPE=image/jpeg:https://artnco.org/wp-content/uploads/2024/09/Le-Genie-des-Jardins-2024.jpg
END:VEVENT
BEGIN:VEVENT
DTSTART;TZID=Europe/Paris:20240926T100000
DTEND;TZID=Europe/Paris:20241002T190000
DTSTAMP:20260423T121009
CREATED:20240109T162145Z
LAST-MODIFIED:20240918T171814Z
UID:6517-1727344800-1727895600@artnco.org
SUMMARY:Salon d'Art Inédit de Poissy 2024
DESCRIPTION:Pour cette troisième édition\, le Salon d’Art Inédit de Poissy se tiendra au Centre de Diffusion Artistique du 26 septembre au 2 octobre 2024. \nCe salon présentera les œuvres de 35 artistes plasticiens – peintres\, sculpteurs\, photographes – mises en valeur dans une scénographie innovante. Une attention particulière a été portée sur le caractère inédit et original des œuvres afin de proposer au public une experience renouvelée chaque année. S’ajouteront à cette exposition des animations et un habillage musical spécifique.\nCette année vous pourrez découvrir des œuvres de grand format abstraites\, figuratives ou surréalistes\, des peintures sur planches ou plaques de métal\, des sculptures en métal de récupération\, des peintures sur tissus. Des artistes de la ville de Pirmasens (Allemagne) seront également présents. \nLes artistes seront présents tout au long du week-end pour présenter leurs œuvres et échanger avec le public.\nPoint de départ de cette randonnée artistique\, le vernissage aura lieu le jeudi 26 septembre à partir de 19h.\nPar ailleurs\, plusieurs journées en semaine seront consacrées aux groupes constitués et aux scolaires. \nCet évènement est proposé par Art’nCo\, association d’artistes de Poissy et de l’Ouest parisien\, avec le soutien de la ville de Poissy. Art’nCo organise des événements afin de faire connaître et diffuser la production artistique de ses membres tout en contribuant à l’animation culturelle et artistique de Poissy et ses environs.
URL:https://artnco.org/event/salon-dart-inedit-de-poissy-2024/
LOCATION:Centre de Diffusion Artistique\, 53 Av. Blanche de Castille\, Poissy\, 78300
CATEGORIES:Évènements Art'nCo
ATTACH;FMTTYPE=image/jpeg:https://artnco.org/wp-content/uploads/2024/01/Salon-dArt-Inedit-Poissy-Recto.jpg
ORGANIZER;CN="Art'nCo":MAILTO:contact@artnco.org
END:VEVENT
BEGIN:VEVENT
DTSTART;TZID=Europe/Paris:20240921T100000
DTEND;TZID=Europe/Paris:20241012T170000
DTSTAMP:20260423T121009
CREATED:20240930T163717Z
LAST-MODIFIED:20240930T164148Z
UID:9554-1726912800-1728752400@artnco.org
SUMMARY:Nos Deuillois ont du talent
DESCRIPTION:Les artistes deuillois exposent leurs talents ! \nNombreux sont ceux qui aiment peindre\, dessiner\, créer\, photographier\, sculpter.\nCette exposition collective vous invite à découvrir une vingtaine d’artistes locaux\, qu’ils soient confirmés ou amateurs\, dans ce nouveau lieu dédié à l’Art sur la Ville.\nVenez vous laissez surprendre et soutenir nos talents Deuillois dans leurs passions ! \nSamedi 21 septembre à 10h\nVernissage de l’exposition et inauguration de la Maison des Arts \nInfos : 01 34 28 66 12/14
URL:https://artnco.org/event/nos-deuillois-ont-du-talent/
LOCATION:Maison des Arts de Deuil-la-Barre\, 9 Rue du Chateau\, Deuil-la-Barre\, 95170\, France
CATEGORIES:Évènements Artistiques
ATTACH;FMTTYPE=image/jpeg:https://artnco.org/wp-content/uploads/2024/09/Nos-deuillois-ont-du-talent.jpg
END:VEVENT
BEGIN:VEVENT
DTSTART;VALUE=DATE:20240920
DTEND;VALUE=DATE:20241004
DTSTAMP:20260423T121009
CREATED:20240908T191316Z
LAST-MODIFIED:20240908T191316Z
UID:9213-1726819200-1727942399@artnco.org
SUMMARY:Exposition Jean-Paul Pinon
DESCRIPTION:Exposition de photos par Jean-Paul Pinon au Club Péguy. \nVernissage le 20 septembre à 18h30
URL:https://artnco.org/event/exposition-jean-paul-pinon/
LOCATION:Club Péguy\, 32 bis Fernand Lefebvre\, Poissy\, 78300\, France
CATEGORIES:Évènements Artistiques
ATTACH;FMTTYPE=image/jpeg:https://artnco.org/wp-content/uploads/2024/09/Exposition-Jean-Paul-Pinon.jpg
END:VEVENT
BEGIN:VEVENT
DTSTART;TZID=Europe/Paris:20240918T153000
DTEND;TZID=Europe/Paris:20241110T130000
DTSTAMP:20260423T121009
CREATED:20240917T154614Z
LAST-MODIFIED:20240917T154653Z
UID:9310-1726673400-1731243600@artnco.org
SUMMARY:Exposition Collective « Perspectives »
DESCRIPTION:1ère expo de la saison : \nExposition Collective « Perspectives » \nArtistes présentés :\nEmmanuelle Baroth / Joey Brusquet / Christine Caupin / Eric Douane / Marc Feist / Diane Hioco / Bertrand Namur / Anne Poitrenaud / Anne Christine Wellenstein \nGalerie Berthe & Edgar – Chatou (78)\n6 place sainte Marie 78400 Chatou\ndu 18 septembre au 10 novembre \nVernissage : Jeudi 26 septembre 18h-21h\nFinissage : Jeudi 17 octobre\nmercredi\, jeudi\, vendredi : 15h30-19h30\nsamedi : 10h-13h et 15h30- 19h30\ndimanche : 10h- 13h
URL:https://artnco.org/event/exposition-collective-perspectives/
LOCATION:Galerie Berthe et Edgar\, 6 Place Sainte-Marie\, Chatou\, 78400\, France
CATEGORIES:Évènements Artistiques
ATTACH;FMTTYPE=image/jpeg:https://artnco.org/wp-content/uploads/2024/09/Perspectives.jpg
END:VEVENT
BEGIN:VEVENT
DTSTART;VALUE=DATE:20240715
DTEND;VALUE=DATE:20241003
DTSTAMP:20260423T121009
CREATED:20240712T100138Z
LAST-MODIFIED:20240712T100138Z
UID:8441-1721030400-1727855999@artnco.org
SUMMARY:Empire à la librairie du pincerais à Poissy
DESCRIPTION:Empire puise son origine dans les pages du livre d’Italo Calvino\, « Les Villes invisibles ».\nQuoi de mieux qu’utiliser un sténopé pour révéler l’invisible\, dénicher les mots dans le réel. Je vous invite à découvrir ou redécouvrir cet Empire au fil de mes images. \nLa série sera exposée tout l’été à la librairie du Pincerais à Poissy en plein centre ville face au cinéma. J’y serai présent plusieurs après midis pour vous présenter ma série les 24 et 31 août ainsi que les 14 et 21 septembre. Je vous dis à bientôt.
URL:https://artnco.org/event/empire-a-la-librairie-du-pincerais-a-poissy/
LOCATION:Librairie du Pincerais\, 117 Rue du Général de Gaulle\, Poissy\, 78300
CATEGORIES:Expositions
ATTACH;FMTTYPE=image/jpeg:https://artnco.org/wp-content/uploads/2024/07/IMG_5953.jpeg
END:VEVENT
END:VCALENDAR