BEGIN:VCALENDAR
VERSION:2.0
PRODID:-//ArtˈnCo - ECPv6.13.2.1//NONSGML v1.0//EN
CALSCALE:GREGORIAN
METHOD:PUBLISH
X-WR-CALNAME:ArtˈnCo
X-ORIGINAL-URL:https://artnco.org
X-WR-CALDESC:Évènements pour ArtˈnCo
REFRESH-INTERVAL;VALUE=DURATION:PT1H
X-Robots-Tag:noindex
X-PUBLISHED-TTL:PT1H
BEGIN:VTIMEZONE
TZID:Europe/Paris
BEGIN:DAYLIGHT
TZOFFSETFROM:+0100
TZOFFSETTO:+0200
TZNAME:CEST
DTSTART:20240331T010000
END:DAYLIGHT
BEGIN:STANDARD
TZOFFSETFROM:+0200
TZOFFSETTO:+0100
TZNAME:CET
DTSTART:20241027T010000
END:STANDARD
END:VTIMEZONE
BEGIN:VEVENT
DTSTART;TZID=Europe/Paris:20241005T100000
DTEND;TZID=Europe/Paris:20241006T180000
DTSTAMP:20260423T103831
CREATED:20241003T201419Z
LAST-MODIFIED:20241003T201419Z
UID:9608-1728122400-1728237600@artnco.org
SUMMARY:Portes Ouvertes Ateliers d'Artistes - Yonne
DESCRIPTION:Dans le cadre des Journées Portes Ouvertes des Ateliers d’Artistes de Bourgogne Franche-Comté organisées par le Conseil Régional\, les artistes de l’Yonne ouvriront leurs ateliers les 5 et 6 octobre de 10h à 18h. Au total\, c’est 40 ateliers qui seront ouverts dans l’Yonne. C’est l’occasion de découvrir entre villes et surtout campagne\, des artistes qui vous recevront à bras ouverts pour vous faire partager leur passion.
URL:https://artnco.org/event/portes-ouvertes-ateliers-dartistes-yonne/
LOCATION:Arces-DIlo\, 2 Rue des Rajeuses\, Le Pontevrat\, Arcès-Dilo\, 89320
CATEGORIES:Évènements Artistiques
ATTACH;FMTTYPE=image/jpeg:https://artnco.org/wp-content/uploads/2024/10/Portes-Ouvertes-dAteliers-dArtistes-Yonne-scaled.jpg
END:VEVENT
BEGIN:VEVENT
DTSTART;TZID=Europe/Paris:20241005T100000
DTEND;TZID=Europe/Paris:20241013T180000
DTSTAMP:20260423T103831
CREATED:20240930T112709Z
LAST-MODIFIED:20240930T112912Z
UID:9539-1728122400-1728842400@artnco.org
SUMMARY:Oksébô les duos #9
DESCRIPTION:Autour du thème Dérapages\, 45 artistes et artisans d’art venant du Vexin\, de la France et d’ailleurs\, présenteront 22 installations\, dont 20 réalisées en duos\, 1 en trio et 1 en quatuor. \nVernissage : Samedi 5 octobre à 18h30 \nAteliers Gratuits : les dimanches de 15h à 18h
URL:https://artnco.org/event/oksebo-les-duos-9/
LOCATION:Château de la Roche-Guyon\, 1 Rue de l'Audience\, La Roche-Guyon\, 95780
CATEGORIES:Évènements Artistiques
ATTACH;FMTTYPE=image/jpeg:https://artnco.org/wp-content/uploads/2024/09/Oksebo9-1.jpg
END:VEVENT
BEGIN:VEVENT
DTSTART;TZID=Europe/Paris:20241005T100000
DTEND;TZID=Europe/Paris:20241013T180000
DTSTAMP:20260423T103831
CREATED:20241003T193039Z
LAST-MODIFIED:20241003T193057Z
UID:9599-1728122400-1728842400@artnco.org
SUMMARY:52ème Salon des Arts de Vaucresson
DESCRIPTION:Pour le 52ème Salon des Arts\, le centre culturel accueille la peintre Katell Le Jeune\, comme invitée d’honneur.\n« Je peins toujours comme si je rentrais de voyage.\nMon travail exprime des expériences sensorielles sur un territoire. C’est une forme de carnet de voyage entre terre et mer. Une narration poétique stimulée par l’aventure.\nChaque peinture a pour titre les coordonnées géographiques de leur lieu (principal) d’inspiration. » \nUne cinquantaine d’artistes exposeront également leurs œuvres : sculptures\, peintures et techniques mixtes. Le prix du public sera remis à La Montgolfière le jour de la clôture du salon le dimanche 13 octobre. \nHoraires : du lundi au vendredi de 15h à 19h\, le samedi de 10h à 13h et de 14h à 18h\, le dimanche de 10h à 13h et de 15h à 18h.
URL:https://artnco.org/event/52eme-salon-des-arts-de-vaucresson/
LOCATION:La Montgolfière\, 14 Av. Jean Salmon-Legagneur\, Vaucresson\, 92420
CATEGORIES:Évènements Artistiques
ATTACH;FMTTYPE=image/jpeg:https://artnco.org/wp-content/uploads/2024/10/52eme-Salon-des-Arts-de-Vaucresson.jpg
END:VEVENT
BEGIN:VEVENT
DTSTART;VALUE=DATE:20241005
DTEND;VALUE=DATE:20241008
DTSTAMP:20260423T103831
CREATED:20241005T203217Z
LAST-MODIFIED:20241005T203217Z
UID:9658-1728115200-1728287999@artnco.org
SUMMARY:Les Soudeurs du Soir - 7ème édition
DESCRIPTION:Le Haras National de Lamballe propose une animation autour des soudeurs avec démonstrations \nSamedi de 11h à 1h\nDimanche de 11h à 17h \nLe samedi à partir de 20h dans la forge du Haras : concert des “Drive Aid” suivi de “Lafaya”. \nTout le week-end : soudure à l’arc\, soufflage de verre\, fabrication de bijoux\, céramique en raku et tombola où une œuvre est à gagner.
URL:https://artnco.org/event/les-soudeurs-du-soir-7eme-edition/
LOCATION:Haras National de Lamballe\, Pl. du Champ de Foire\, Lamballe-Armor\, 22400
CATEGORIES:Évènements Artistiques
ATTACH;FMTTYPE=image/jpeg:https://artnco.org/wp-content/uploads/2024/10/Les-Soudeurs-du-Soir.jpg
END:VEVENT
BEGIN:VEVENT
DTSTART;TZID=Europe/Paris:20240928T080000
DTEND;TZID=Europe/Paris:20241006T170000
DTSTAMP:20260423T103831
CREATED:20240924T205013Z
LAST-MODIFIED:20240924T205042Z
UID:9372-1727510400-1728234000@artnco.org
SUMMARY:Le Génie des Jardins 2024
DESCRIPTION:Biennale internationale d’art contemporain dans les jardins du XIe\n  \nLa 11e édition du Génie des Jardins se tiendra cette année du 28 septembre au 6 octobre 2024 dans deux jardins du 11e arrondissement de Paris : le square Gardette et le square de la Roquette. \n  \nÀ l’occasion de sa Biennale d’art contemporain\, l’association Le Génie de la Bastille\, qui célèbre cette année ses 40 ans d’existence\, présentera neuf installations et une performance\, sélectionnés au regard de leur qualité\, de leur originalité et de leur pertinence artistique. \nEnsemble\, les artistes retenus revisitent l’espace des jardins. Et\, pour son anniversaire\, l’association vous invite à découvrir deux installations collectives composées de plusieurs centaines de pocket paintings. \nLES ARTISTES \nSquare de la Roquette \nARySQUE \nCaroline Fradet \nMehdi Yarmohammadi \nAdrien Van Nieuwenhuyzen \nCAS123 – Cristina Oliosi\, Alice Sidoli\, Sylvette Gassan \nSquare Gardette \nMieke Vasse \nDanielle Loisel \nWanda Torres \nCarol Fonteneau \nInstallation collective des artistes du Génie de la Bastille \nBalade gratuite avec « Ca se visite ! »\nVendredi 27 septembre à 17h30 \nRendez-vous à l’entrée du square de la Roquette à 17h30. 1h30 de balade à la rencontre des œuvres et des artistes qui vous emmèneront du square de la Roquette au square Gardette où se tiendra le vernissage \nVERNISSAGE\nVendredi 27 septembre à 19h dans le Kiosque du square Gardette \nAssistez également à la danse d’une araignée qui tisse sa toile avec la performeuse Carol Fonteneau. \n  \nLe dépliant du Génie des jardins 2024 – pdf \n 
URL:https://artnco.org/event/le-genie-des-jardins-2024/
LOCATION:Kiosque Square Gardette\, 2 Rue du Général Blaise\, Paris\, 75011
CATEGORIES:Évènements Artistiques
ATTACH;FMTTYPE=image/jpeg:https://artnco.org/wp-content/uploads/2024/09/Le-Genie-des-Jardins-2024.jpg
END:VEVENT
BEGIN:VEVENT
DTSTART;TZID=Europe/Paris:20240921T100000
DTEND;TZID=Europe/Paris:20241012T170000
DTSTAMP:20260423T103831
CREATED:20240930T163717Z
LAST-MODIFIED:20240930T164148Z
UID:9554-1726912800-1728752400@artnco.org
SUMMARY:Nos Deuillois ont du talent
DESCRIPTION:Les artistes deuillois exposent leurs talents ! \nNombreux sont ceux qui aiment peindre\, dessiner\, créer\, photographier\, sculpter.\nCette exposition collective vous invite à découvrir une vingtaine d’artistes locaux\, qu’ils soient confirmés ou amateurs\, dans ce nouveau lieu dédié à l’Art sur la Ville.\nVenez vous laissez surprendre et soutenir nos talents Deuillois dans leurs passions ! \nSamedi 21 septembre à 10h\nVernissage de l’exposition et inauguration de la Maison des Arts \nInfos : 01 34 28 66 12/14
URL:https://artnco.org/event/nos-deuillois-ont-du-talent/
LOCATION:Maison des Arts de Deuil-la-Barre\, 9 Rue du Chateau\, Deuil-la-Barre\, 95170\, France
CATEGORIES:Évènements Artistiques
ATTACH;FMTTYPE=image/jpeg:https://artnco.org/wp-content/uploads/2024/09/Nos-deuillois-ont-du-talent.jpg
END:VEVENT
BEGIN:VEVENT
DTSTART;TZID=Europe/Paris:20240918T153000
DTEND;TZID=Europe/Paris:20241110T130000
DTSTAMP:20260423T103831
CREATED:20240917T154614Z
LAST-MODIFIED:20240917T154653Z
UID:9310-1726673400-1731243600@artnco.org
SUMMARY:Exposition Collective « Perspectives »
DESCRIPTION:1ère expo de la saison : \nExposition Collective « Perspectives » \nArtistes présentés :\nEmmanuelle Baroth / Joey Brusquet / Christine Caupin / Eric Douane / Marc Feist / Diane Hioco / Bertrand Namur / Anne Poitrenaud / Anne Christine Wellenstein \nGalerie Berthe & Edgar – Chatou (78)\n6 place sainte Marie 78400 Chatou\ndu 18 septembre au 10 novembre \nVernissage : Jeudi 26 septembre 18h-21h\nFinissage : Jeudi 17 octobre\nmercredi\, jeudi\, vendredi : 15h30-19h30\nsamedi : 10h-13h et 15h30- 19h30\ndimanche : 10h- 13h
URL:https://artnco.org/event/exposition-collective-perspectives/
LOCATION:Galerie Berthe et Edgar\, 6 Place Sainte-Marie\, Chatou\, 78400\, France
CATEGORIES:Évènements Artistiques
ATTACH;FMTTYPE=image/jpeg:https://artnco.org/wp-content/uploads/2024/09/Perspectives.jpg
END:VEVENT
END:VCALENDAR