BEGIN:VCALENDAR
VERSION:2.0
PRODID:-//ArtˈnCo - ECPv6.13.2.1//NONSGML v1.0//EN
CALSCALE:GREGORIAN
METHOD:PUBLISH
X-WR-CALNAME:ArtˈnCo
X-ORIGINAL-URL:https://artnco.org
X-WR-CALDESC:Évènements pour ArtˈnCo
REFRESH-INTERVAL;VALUE=DURATION:PT1H
X-Robots-Tag:noindex
X-PUBLISHED-TTL:PT1H
BEGIN:VTIMEZONE
TZID:Europe/Paris
BEGIN:DAYLIGHT
TZOFFSETFROM:+0100
TZOFFSETTO:+0200
TZNAME:CEST
DTSTART:20250330T010000
END:DAYLIGHT
BEGIN:STANDARD
TZOFFSETFROM:+0200
TZOFFSETTO:+0100
TZNAME:CET
DTSTART:20251026T010000
END:STANDARD
END:VTIMEZONE
BEGIN:VEVENT
DTSTART;TZID=Europe/Paris:20250913T140000
DTEND;TZID=Europe/Paris:20250914T180000
DTSTAMP:20260423T120949
CREATED:20250912T153002Z
LAST-MODIFIED:20250912T153002Z
UID:15051-1757772000-1757872800@artnco.org
SUMMARY:Exposition collective dans un jardin
DESCRIPTION:Exposition de peintures dans un jardin. 🌞🖼🎨\nSamedi 13 septembre et dimanche 14 septembre 2025 de 14 h à 18 h.\nMoment musical – samedi à 17 h 🎤🎼🎵🎶 \nAdresse :\n231/233 boulevard du Maréchal Juin\,\n78200 Mantes-la-Jolie \nÀ bientôt !!!
URL:https://artnco.org/event/exposition-collective-dans-un-jardin/
LOCATION:Jardin – Mantes-la-Jolie\, 231-233 Boulevard du Maréchal Juin\, Mantes-la-Jolie\, 78200
CATEGORIES:Évènements Artistiques
ATTACH;FMTTYPE=image/jpeg:https://artnco.org/wp-content/uploads/2025/09/Expo-collective-dans-un-jardin.jpg
END:VEVENT
BEGIN:VEVENT
DTSTART;TZID=Europe/Paris:20250913T110000
DTEND;TZID=Europe/Paris:20250914T190000
DTSTAMP:20260423T120949
CREATED:20250912T115754Z
LAST-MODIFIED:20250912T123242Z
UID:15039-1757761200-1757876400@artnco.org
SUMMARY:JNA - Nad
DESCRIPTION:Ce week-end vont se dérouler les Journées Nationales des Artistes\, organisées par la Maison des Artistes et parrainées par le Ministère de la Culture.\nA cette occasion\, j’ouvre les portes de mon Atelier. Vous y serez évidemment les bienvenus. \nNadine Michon “Nad”
URL:https://artnco.org/event/journee-nationales-des-artistes-nad/
LOCATION:Atelier Nad\, 4\, rue Apollinaire\, Saint-Germain de la Grange\, 78640
CATEGORIES:Évènements Artistiques
ATTACH;FMTTYPE=image/jpeg:https://artnco.org/wp-content/uploads/2025/09/JNA-Nad-scaled.jpg
END:VEVENT
BEGIN:VEVENT
DTSTART;TZID=Europe/Paris:20250913T110000
DTEND;TZID=Europe/Paris:20250914T190000
DTSTAMP:20260423T120949
CREATED:20250912T123035Z
LAST-MODIFIED:20250912T123151Z
UID:15044-1757761200-1757876400@artnco.org
SUMMARY:JNA - Myriam Delahoux
DESCRIPTION:Chers amateurs d’Art. \nDès demain\, j’ouvre mon atelier de sculptures pour les JNA (Journées Nationales des Artistes)\, organisées par la MDA (Maison des Artistes) au 20bis rue des Beaunes à Chatou (78) le samedi 13 septembre et le dimanche 14 septembre 2025 de 11h à 19h. Venez découvrir mes sculptures dans ce lieu emblématique qui a une histoire. \nLes Journées Nationales des Artistes\, ce sont des milliers d’artistes à travers la France et des centaines de structures et collectivités locales qui ouvriront gratuitement leurs portes.\nCes journées vous offrent une occasion unique de découvrir les œuvres et d’échanger directement avec les artistes les 13 & 14 septembre 2025\, de 11h à 19h. \nVenez me retrouver dans mon atelier au : 20bis rue des Beaunes\, 78400 Chatou \nPour venir à mon atelier de Sculpture : \nDe Paris\, prendre le RER A vers Saint-Germain-en-Laye. Descendre à Chatou-Croissy.\n(20 à 25 minutes de marche\, moins de 2km.)
URL:https://artnco.org/event/jna-myriam-delahoux/
LOCATION:Atelier Myriam Delahoux\, 20bis rue des Beaunes\, Chatou\, 78400
CATEGORIES:Évènements Artistiques
ATTACH;FMTTYPE=image/jpeg:https://artnco.org/wp-content/uploads/2025/09/JNA-Myriam-Delahoux-scaled.jpg
END:VEVENT
BEGIN:VEVENT
DTSTART;TZID=Europe/Paris:20250913T100000
DTEND;TZID=Europe/Paris:20250914T190000
DTSTAMP:20260423T120949
CREATED:20250827T144711Z
LAST-MODIFIED:20250827T144813Z
UID:14855-1757757600-1757876400@artnco.org
SUMMARY:JNA - Eva Klötgen
DESCRIPTION:Pour les Journées Nationales des Ateliers d’Artistes\, portes ouvertes de l’atelier samedi 13 et dimanche 14 septembre 2025 de 10h à 12 h et de 14h à 19h
URL:https://artnco.org/event/jna-eva-klotgen/
LOCATION:Atelier Eva Klötgen\, 24 Chemin de Prunay\, Louveciennes\, 78430
CATEGORIES:Évènements Artistiques
ATTACH;FMTTYPE=image/jpeg:https://artnco.org/wp-content/uploads/2025/08/Atelier-Eva-Klotgen.jpg
END:VEVENT
BEGIN:VEVENT
DTSTART;VALUE=DATE:20250913
DTEND;VALUE=DATE:20251013
DTSTAMP:20260423T120949
CREATED:20250808T091101Z
LAST-MODIFIED:20250812T113313Z
UID:14659-1757750400-1760255999@artnco.org
SUMMARY:Nos Deuillois ont du talent
DESCRIPTION:Exposition collective des artistes du domaine des arts visuels\, professionnels et amateurs\, de la commune de Deuil-la-Barre (Val d’Oise 95).
URL:https://artnco.org/event/nos-deuillois-ont-du-talent-2/
LOCATION:Maison des Arts de Deuil-la-Barre\, 9 Rue du Chateau\, Deuil-la-Barre\, 95170\, France
CATEGORIES:Évènements Artistiques
ATTACH;FMTTYPE=image/jpeg:https://artnco.org/wp-content/uploads/2025/08/inv.Deuillois-talent-2025-petit-def.jpg
ORGANIZER;CN="Ville de Deuil-la-Barre":MAILTO:culture@deuillabarre.fr
END:VEVENT
BEGIN:VEVENT
DTSTART;TZID=Europe/Paris:20250912T100000
DTEND;TZID=Europe/Paris:20250921T170000
DTSTAMP:20260423T120949
CREATED:20250912T200052Z
LAST-MODIFIED:20250913T190346Z
UID:15057-1757671200-1758474000@artnco.org
SUMMARY:Vern'Arts - exposition d'art insolite
DESCRIPTION:Peintres et dessinateurs\, sculpteurs\, plasticiens … se livrent à travers des oeuvres innovantes.\nCertaines sont un hymne à la beauté ou à la créativité par des techniques originales.\nD’autres donnent des lettres de noblesse à des matériaux récupérés\, racontent la fragilité du monde animal dans la biodiversité\, le dérèglement climatique\,\nles violences de l’Homme et ses émotions … \nLeurs oeuvres interpellent\, donnent à chacun son envie d’interprétation\, de dialogue\, suscitent une envie d’Art ! \nNous vous invitons à découvrir une “exposition pas comme les autres”. Étonnez-vous! \n\n\n\n\nDu mardi au vendredi de 10h à 12h et de 14h à 17h.\nLe samedi et dimanche de 15h à 18h.\nFermé le lundi. Entrée libre.
URL:https://artnco.org/event/vernarts-exposition-dart-insolite/
LOCATION:Espace Maurice Béjart\, 3 Bd André Malraux\, Verneuil-sur-Seine\, 78480\, France
CATEGORIES:Évènements Artistiques
ATTACH;FMTTYPE=image/jpeg:https://artnco.org/wp-content/uploads/2025/09/2025_affiche_vernarts-1.jpg
ORGANIZER;CN="Les Couleurs de l'Art":MAILTO:lescouleursdelart95@gmail.com
END:VEVENT
BEGIN:VEVENT
DTSTART;TZID=Europe/Paris:20250906T080000
DTEND;TZID=Europe/Paris:20250914T170000
DTSTAMP:20260423T120949
CREATED:20250908T132709Z
LAST-MODIFIED:20250908T132819Z
UID:14932-1757145600-1757869200@artnco.org
SUMMARY:Jocelyne Goron et Pascal Niau
DESCRIPTION:Pour la seconde année consécutive\, on ouvrira la saison culturelle en accueillant les artistes lauréats du prix de la Ville du Salon des Beaux-Arts ! \nJocelyne Goron est une sculptrice qui affectionne particulièrement la représentation de personnages singuliers\, qu’elle appelle ses « drôles de terriens ». À partir du travail de l’argile\, elle laisse libre court à son imaginaire\, pour donner naissance à des créations poétiques\, vivantes\, colorées… Reflets de sa personnalité et écho de ses expériences. \nPascal Niau\, quant à lui\, est un artiste aux multiples facettes : plasticien\, peintre\, cuisinier… Après une formation aux Beaux-Arts\, il décroche le titre de Meilleur Ouvrier de France à Paris Sorbonne pour sa pâtisserie en 1979\, avant de travailler pour le monde la mode\, du cinéma\, du théâtre… Revenu aux arts plastiques\, il produit une peinture coloriste\, expressionniste et symboliste\, qui se nourrit de ses riches expériences de vie.
URL:https://artnco.org/event/jocelyne-goron-et-pascal-niau/
LOCATION:Galerie Lamazière\, 27 Rue Thibault Chabrand\, Cormeilles-en-Parisis\, 95240
CATEGORIES:Évènements Artistiques
ATTACH;FMTTYPE=image/jpeg:https://artnco.org/wp-content/uploads/2025/09/Goron-Niau.jpg
END:VEVENT
BEGIN:VEVENT
DTSTART;TZID=Europe/Paris:20250614T110000
DTEND;TZID=Europe/Paris:20250928T190000
DTSTAMP:20260423T120949
CREATED:20250715T194450Z
LAST-MODIFIED:20250715T200135Z
UID:14464-1749898800-1759086000@artnco.org
SUMMARY:Sculptures en l’Île
DESCRIPTION:Après une année d’absence\, l’exposition en plein air Sculptures en l’Île fait son grand retour à Andrésy pour une 27e édition placée sous le signe de l’eau et de la créativité collective. \nUn parcours artistique gratuit dans un cadre naturel exceptionnel\nDepuis le samedi et jusqu’au dimanche 28 septembre 2025\, les berges de Seine\, le parc de l’Hôtel de Ville et l’île Nancy accueillent de nombreuses œuvres d’art contemporain\, réalisées par des artistes venus de toute la France et d’ailleurs. Cette année\, le thème « Au f’île de l’eau » met à l’honneur l’eau comme source de vie et d’inspiration\, tout en soulignant l’engagement écologique de la manifestation. \nSculptures en l’Île 2025 s’impose\, une fois encore\, comme un événement incontournable de la saison culturelle des Yvelines\, accessible à tous les publics et idéal pour une sortie en famille ou entre amis. \nHoraires d’ouverture et conditions d’accès\nL’exposition est ouverte au public du mercredi au dimanche et les jours fériés. \n\nDu 14 juin au 31 août: de 11 h à 19 h\nDu 1er au 28 septembre: de 12 h à 19 h\nL’accès à l’ensemble du parcours\, y compris la traversée en bateau vers l’île Nancy\, est entièrement gratuit.\n\nEmbarcadère pour l’île Nancy: 4 boulevard Noël-Marc\, Andrésy. Navette fluviale gratuite du centre-ville à l’île Nancy\, aux horaires d’ouverture de l’exposition. \nInformations pratiques\n\nAdresse: Hôtel de Ville\, 4 boulevard Noël-Marc\, 78570 Andrésy\nContact: 01 39 27 11 62 / mairie@andresy.com\nAccès: SNCF Paris Saint-Lazare > Andrésy\, parkings à proximité\, traversée fluviale gratuit
URL:https://artnco.org/event/sculptures-en-lile-2/
LOCATION:Embarcadère pour l’île Nancy\, 4 boulevard Noël-Marc\, Andrésy\, 78570
CATEGORIES:Évènements Artistiques
ATTACH;FMTTYPE=image/jpeg:https://artnco.org/wp-content/uploads/2025/07/Au-file-de-leau.jpg
ORGANIZER;CN="Ville d'Andr%C3%A9sy":MAILTO:mairie@andresy.com
END:VEVENT
END:VCALENDAR