BEGIN:VCALENDAR
VERSION:2.0
PRODID:-//ArtˈnCo - ECPv6.13.2.1//NONSGML v1.0//EN
CALSCALE:GREGORIAN
METHOD:PUBLISH
X-WR-CALNAME:ArtˈnCo
X-ORIGINAL-URL:https://artnco.org
X-WR-CALDESC:Évènements pour ArtˈnCo
REFRESH-INTERVAL;VALUE=DURATION:PT1H
X-Robots-Tag:noindex
X-PUBLISHED-TTL:PT1H
BEGIN:VTIMEZONE
TZID:Europe/Paris
BEGIN:DAYLIGHT
TZOFFSETFROM:+0100
TZOFFSETTO:+0200
TZNAME:CEST
DTSTART:20250330T010000
END:DAYLIGHT
BEGIN:STANDARD
TZOFFSETFROM:+0200
TZOFFSETTO:+0100
TZNAME:CET
DTSTART:20251026T010000
END:STANDARD
END:VTIMEZONE
BEGIN:VEVENT
DTSTART;TZID=Europe/Paris:20250920T143000
DTEND;TZID=Europe/Paris:20251012T173000
DTSTAMP:20260423T104528
CREATED:20250713T130733Z
LAST-MODIFIED:20250831T190850Z
UID:14352-1758378600-1760290200@artnco.org
SUMMARY:Exposition "un regard certain" à l’Orangerie
DESCRIPTION:Le photographe Franck Stromme dévoile 45 ans de photojournalisme.\nRencontre avec l’artiste : venez en immersion découvrir son travail et vous initier à la photographie\, samedi 20 septembre à partir de 14h30.\nL’exposition se poursuit jusqu’au 12 octobre les mercredis\, samedis et dimanches de 13h30 à 17h30.
URL:https://artnco.org/event/exposition-un-regard-certain-a-lorangerie/
LOCATION:Orangerie du parc du prieuré\, 1 place Jules Gévelot\, Conflans-Sainte-Honorine\, 78700
CATEGORIES:Évènements Artistiques
ATTACH;FMTTYPE=image/jpeg:https://artnco.org/wp-content/uploads/2025/07/Franck-Stromme-1.jpg
END:VEVENT
BEGIN:VEVENT
DTSTART;TZID=Europe/Paris:20250920T103000
DTEND;TZID=Europe/Paris:20250920T230000
DTSTAMP:20260423T104528
CREATED:20250916T200304Z
LAST-MODIFIED:20250916T200905Z
UID:15084-1758364200-1758409200@artnco.org
SUMMARY:10e édition du Festival de Street art
DESCRIPTION:À l’occasion du Festival de Street Art d’Antony \, des artistes urbains de renommée nationale et internationale viendront œuvrer en direct sur de grandes toiles\, dans le quartier Saint-Saturnin et sur la place de l’Hôtel de Ville  samedi 20 septembre de 10h30 à 23h. Cet événement\, organisé par la Ville\, représente le plus grand rassemblement de street artistes de la région d’Ile-de-France. \n  \nCette année\, le festival fête ses 10 ans ! Il accueillera 68 artistes\, aux univers graphiques très variés. Les artistes réaliseront des performances de street-art en direct sur de grandes toiles de plus de 2 mètres.\nLe festival représente aussi un espace de rencontres entre les artistes qui métamorphosent le quartier Saint-Saturnin et la place de l’Hôtel de Ville en musée à ciel ouvert.\nLes réalisations resteront ensuite exposées près d’un mois dans le quartier. \nListe des exposants – street art\nAKA “RIRE FISH” – AGATHON – ALYS – ANNA CONDA – BISK CIERCO – BARTH LE SABLIER – @AKELO.ART – CLEMENT HERRMANN DACO – DEACE – DEMOISELLE MM – DESPEE- DUNE – E A J DJOULAYLAPAPAYE – E. BERTHOLIN – E. TISSANDIER – EMYART’S ERNESTO NOVO – FANSTER – GRAFFITAX – J. THOMAS – JO BER JOACHIM ROMAIN – KALDEA – KEKLI – KRUSTY – LICEA – LEZZART MELISSA FOLLET – JOSEPHA POULAIN – JULIE REGARD – M I U M. KOEUR – LA MEUF STREET ART – M. SABLE – MATHIEU_1976 MONKIZ ART – MIZER – MORNE DMJC – MOYOSHI – MEYER MOREAU NAÖH – M’SIEU BONHEUR – NEDI – NÔ – NASH ARTWORKS – NAWAK PAINT OLIVIER – ONSEPT – ROND – SKIO – SLY 2 – STEW – SUCR 128 SUN C – SYTY – UCB PARIS – URB 1 – TOM GELEB – VIPER – SITOU- WEARONE – TR1 TR1 QUOTIDIEN – ZOMEKA – TITO – MULK \n 
URL:https://artnco.org/event/10e-edition-du-festival-de-street-art/
LOCATION:Hôtel de Ville d’Antony\, Pl. de l'Hôtel de ville\, Antony\, 92160
CATEGORIES:Évènements Artistiques
ATTACH;FMTTYPE=image/jpeg:https://artnco.org/wp-content/uploads/2025/09/Street-Art-Antony-scaled.jpg
ORGANIZER;CN="Ville d'Antony":MAILTO:evenements_animation@ville-antony.fr
END:VEVENT
BEGIN:VEVENT
DTSTART;TZID=Europe/Paris:20250920T100000
DTEND;TZID=Europe/Paris:20250921T180000
DTSTAMP:20260423T104528
CREATED:20250827T143816Z
LAST-MODIFIED:20250827T143816Z
UID:14849-1758362400-1758477600@artnco.org
SUMMARY:Espace de vie : architecture des pensées
DESCRIPTION:Le collectif GEM Arc-en-Ciel propose une installation artistique immersive et sensible. Le GEM arc-en-ciel est un groupe d’entraide mutuelle situé à Poissy\, un lieu d’accueil convivial et de soutien entre pairs\, destiné à des personnes en situation de fragilité psychique. L’architecture des pensées désigne la manière dont nos idées\, nos souvenirs\, nos émotions et nos représentations mentales s’organisent intérieurement\, comme dans un espace habité. Chaque personne du Gem est marquée par leurs parcours de vie et leurs pensées complexes. Dans ce projet\, nous considérons leurs pensées comme une architecture en soi : un espace de mémoire\, d’expériences\, de reconstructions\, que chacun modèle\, déconstruit ou protège à sa manière. \nExposition proposée par Claudia Campos
URL:https://artnco.org/event/espace-de-vie-architecture-des-pensees/
LOCATION:Villa Savoye\, 61 Avenue Blanche de Castille\, Poissy\, 78300\, France
CATEGORIES:Évènements Artistiques
ATTACH;FMTTYPE=image/jpeg:https://artnco.org/wp-content/uploads/2025/08/GEM.jpg
END:VEVENT
BEGIN:VEVENT
DTSTART;TZID=Europe/Paris:20250919T140000
DTEND;TZID=Europe/Paris:20250928T190000
DTSTAMP:20260423T104528
CREATED:20250918T183938Z
LAST-MODIFIED:20250918T184058Z
UID:15119-1758290400-1759086000@artnco.org
SUMMARY:12ème Salon Automnal
DESCRIPTION:Les Boucles de l’Art-Risle présente une exposition de peintures et de sculptures avec pour invités d’honneur Jocelyne Goron et Nadine Jeanjean\nLieux d’exposition : église et salle des fêtes.\nHoraires en semaine : de 14h à 18h30.\nHoraires le week-end : 10h – 12h30 et 15h-19h.
URL:https://artnco.org/event/12eme-salon-automnal/
LOCATION:Salle des fêtes de la Vieille Lyre\, Rue de l'Union\, La Vieille-Lyre\, 27330
CATEGORIES:Évènements Artistiques
ATTACH;FMTTYPE=image/jpeg:https://artnco.org/wp-content/uploads/2025/09/12eme-Salon-Automnal.jpg
END:VEVENT
BEGIN:VEVENT
DTSTART;TZID=Europe/Paris:20250918T080000
DTEND;TZID=Europe/Paris:20251002T170000
DTSTAMP:20260423T104528
CREATED:20250902T200655Z
LAST-MODIFIED:20250902T200655Z
UID:14901-1758182400-1759424400@artnco.org
SUMMARY:Exposition peintures Marie Bouldingue
DESCRIPTION:Rendez-vous le jeudi 18 septembre à 19 h pour le vernissage de l’exposition de l’artiste Marie Bouldingue.Venez découvrir son univers\, l’exposition sera présente au Club Péguy du 18.09 au 02.10. 
URL:https://artnco.org/event/exposition-peintures-marie-bouldingue/
LOCATION:Club Péguy\, 32 bis Fernand Lefebvre\, Poissy\, 78300\, France
CATEGORIES:Évènements Artistiques
ATTACH;FMTTYPE=image/jpeg:https://artnco.org/wp-content/uploads/2025/09/Marie-Bouldingue.jpg
ORGANIZER;CN="Club Peguy":MAILTO:club.peguy@orange.fr
END:VEVENT
BEGIN:VEVENT
DTSTART;TZID=Europe/Paris:20250916T100000
DTEND;TZID=Europe/Paris:20250927T180000
DTSTAMP:20260423T104528
CREATED:20250910T152528Z
LAST-MODIFIED:20250910T153525Z
UID:14989-1758016800-1758996000@artnco.org
SUMMARY:MUSE - Milan
DESCRIPTION:L’exposition “Muse” se tiendra à Milan au Spazio Arte Tolomeo et accueillera une trentaine d’artistes internationaux.\nAvec la participation de Kadija Zerguit – artiste brodeuse et peintre à l’aiguille\, membre d’Art’nCo!
URL:https://artnco.org/event/muse-milan/
LOCATION:Spazio Arte Tolomeo\, Via Ampère\, 27\, Milan\, 20131\, Italy
CATEGORIES:Évènements Artistiques
ATTACH;FMTTYPE=image/jpeg:https://artnco.org/wp-content/uploads/2025/09/MUSE-Affiche-scaled.jpg
END:VEVENT
BEGIN:VEVENT
DTSTART;VALUE=DATE:20250916
DTEND;VALUE=DATE:20250929
DTSTAMP:20260423T104528
CREATED:20250910T154137Z
LAST-MODIFIED:20250910T154137Z
UID:14998-1758009600-1759046399@artnco.org
SUMMARY:Grand Prix Mona Lisa
DESCRIPTION:Bonjour à vous toutes et tous\,\nJ’ai le plaisir de vous annoncer que j’exposerai dans la Galerie Mona Lisa\, 32 rue de Varenne\, Paris 7\, du 16 au 27 septembre 2025.\nJe serai ravi de pouvoir vous y rencontrer lors du vernissage\, le jeudi 18 septembre à partir de 18h00. Venez nombreux et partagez autour de vous !\nA bientôt.\nMarc Feist
URL:https://artnco.org/event/grand-prix-mona-lisa/
LOCATION:Galerie Mona Lisa\, 32 Rue de Varenne\, Paris 07\, 75007
CATEGORIES:Évènements Artistiques
ATTACH;FMTTYPE=image/jpeg:https://artnco.org/wp-content/uploads/2025/09/Grand-Prix-Mona-Lisa.jpg
END:VEVENT
BEGIN:VEVENT
DTSTART;VALUE=DATE:20250913
DTEND;VALUE=DATE:20251013
DTSTAMP:20260423T104528
CREATED:20250808T091101Z
LAST-MODIFIED:20250812T113313Z
UID:14659-1757750400-1760255999@artnco.org
SUMMARY:Nos Deuillois ont du talent
DESCRIPTION:Exposition collective des artistes du domaine des arts visuels\, professionnels et amateurs\, de la commune de Deuil-la-Barre (Val d’Oise 95).
URL:https://artnco.org/event/nos-deuillois-ont-du-talent-2/
LOCATION:Maison des Arts de Deuil-la-Barre\, 9 Rue du Chateau\, Deuil-la-Barre\, 95170\, France
CATEGORIES:Évènements Artistiques
ATTACH;FMTTYPE=image/jpeg:https://artnco.org/wp-content/uploads/2025/08/inv.Deuillois-talent-2025-petit-def.jpg
ORGANIZER;CN="Ville de Deuil-la-Barre":MAILTO:culture@deuillabarre.fr
END:VEVENT
BEGIN:VEVENT
DTSTART;TZID=Europe/Paris:20250912T100000
DTEND;TZID=Europe/Paris:20250921T170000
DTSTAMP:20260423T104528
CREATED:20250912T200052Z
LAST-MODIFIED:20250913T190346Z
UID:15057-1757671200-1758474000@artnco.org
SUMMARY:Vern'Arts - exposition d'art insolite
DESCRIPTION:Peintres et dessinateurs\, sculpteurs\, plasticiens … se livrent à travers des oeuvres innovantes.\nCertaines sont un hymne à la beauté ou à la créativité par des techniques originales.\nD’autres donnent des lettres de noblesse à des matériaux récupérés\, racontent la fragilité du monde animal dans la biodiversité\, le dérèglement climatique\,\nles violences de l’Homme et ses émotions … \nLeurs oeuvres interpellent\, donnent à chacun son envie d’interprétation\, de dialogue\, suscitent une envie d’Art ! \nNous vous invitons à découvrir une “exposition pas comme les autres”. Étonnez-vous! \n\n\n\n\nDu mardi au vendredi de 10h à 12h et de 14h à 17h.\nLe samedi et dimanche de 15h à 18h.\nFermé le lundi. Entrée libre.
URL:https://artnco.org/event/vernarts-exposition-dart-insolite/
LOCATION:Espace Maurice Béjart\, 3 Bd André Malraux\, Verneuil-sur-Seine\, 78480\, France
CATEGORIES:Évènements Artistiques
ATTACH;FMTTYPE=image/jpeg:https://artnco.org/wp-content/uploads/2025/09/2025_affiche_vernarts-1.jpg
ORGANIZER;CN="Les Couleurs de l'Art":MAILTO:lescouleursdelart95@gmail.com
END:VEVENT
BEGIN:VEVENT
DTSTART;TZID=Europe/Paris:20250614T110000
DTEND;TZID=Europe/Paris:20250928T190000
DTSTAMP:20260423T104528
CREATED:20250715T194450Z
LAST-MODIFIED:20250715T200135Z
UID:14464-1749898800-1759086000@artnco.org
SUMMARY:Sculptures en l’Île
DESCRIPTION:Après une année d’absence\, l’exposition en plein air Sculptures en l’Île fait son grand retour à Andrésy pour une 27e édition placée sous le signe de l’eau et de la créativité collective. \nUn parcours artistique gratuit dans un cadre naturel exceptionnel\nDepuis le samedi et jusqu’au dimanche 28 septembre 2025\, les berges de Seine\, le parc de l’Hôtel de Ville et l’île Nancy accueillent de nombreuses œuvres d’art contemporain\, réalisées par des artistes venus de toute la France et d’ailleurs. Cette année\, le thème « Au f’île de l’eau » met à l’honneur l’eau comme source de vie et d’inspiration\, tout en soulignant l’engagement écologique de la manifestation. \nSculptures en l’Île 2025 s’impose\, une fois encore\, comme un événement incontournable de la saison culturelle des Yvelines\, accessible à tous les publics et idéal pour une sortie en famille ou entre amis. \nHoraires d’ouverture et conditions d’accès\nL’exposition est ouverte au public du mercredi au dimanche et les jours fériés. \n\nDu 14 juin au 31 août: de 11 h à 19 h\nDu 1er au 28 septembre: de 12 h à 19 h\nL’accès à l’ensemble du parcours\, y compris la traversée en bateau vers l’île Nancy\, est entièrement gratuit.\n\nEmbarcadère pour l’île Nancy: 4 boulevard Noël-Marc\, Andrésy. Navette fluviale gratuite du centre-ville à l’île Nancy\, aux horaires d’ouverture de l’exposition. \nInformations pratiques\n\nAdresse: Hôtel de Ville\, 4 boulevard Noël-Marc\, 78570 Andrésy\nContact: 01 39 27 11 62 / mairie@andresy.com\nAccès: SNCF Paris Saint-Lazare > Andrésy\, parkings à proximité\, traversée fluviale gratuit
URL:https://artnco.org/event/sculptures-en-lile-2/
LOCATION:Embarcadère pour l’île Nancy\, 4 boulevard Noël-Marc\, Andrésy\, 78570
CATEGORIES:Évènements Artistiques
ATTACH;FMTTYPE=image/jpeg:https://artnco.org/wp-content/uploads/2025/07/Au-file-de-leau.jpg
ORGANIZER;CN="Ville d'Andr%C3%A9sy":MAILTO:mairie@andresy.com
END:VEVENT
END:VCALENDAR