BEGIN:VCALENDAR
VERSION:2.0
PRODID:-//ArtˈnCo - ECPv6.13.2.1//NONSGML v1.0//EN
CALSCALE:GREGORIAN
METHOD:PUBLISH
X-WR-CALNAME:ArtˈnCo
X-ORIGINAL-URL:https://artnco.org
X-WR-CALDESC:Évènements pour ArtˈnCo
REFRESH-INTERVAL;VALUE=DURATION:PT1H
X-Robots-Tag:noindex
X-PUBLISHED-TTL:PT1H
BEGIN:VTIMEZONE
TZID:Europe/Paris
BEGIN:DAYLIGHT
TZOFFSETFROM:+0100
TZOFFSETTO:+0200
TZNAME:CEST
DTSTART:20260329T010000
END:DAYLIGHT
BEGIN:STANDARD
TZOFFSETFROM:+0200
TZOFFSETTO:+0100
TZNAME:CET
DTSTART:20261025T010000
END:STANDARD
END:VTIMEZONE
BEGIN:VEVENT
DTSTART;TZID=Europe/Paris:20260328T080000
DTEND;TZID=Europe/Paris:20260411T170000
DTSTAMP:20260420T151108
CREATED:20260327T074953Z
LAST-MODIFIED:20260327T074953Z
UID:17413-1774684800-1775926800@artnco.org
SUMMARY:Concours de dessin pour enfants
DESCRIPTION:Le Conseil municipal junior lance un concours de dessin à destination des enfants pisciacais avec pour thème les monuments de Poissy. Trois catégories seront récompensées : \n\nélèves de CE1-CE2\nélèves de de CM1-CM2\ncollégiens des établissements pisciacais\n\nPour participer\, remettez votre dessin à l’Hôtel de Ville du samedi 28 mars au samedi 11 avril. La remise des prix se tiendra le samedi 18 avril à 16h en mairie. \n\nRenseignements par téléphone au 06 81 84 44 95 ou par mail à conseilmunicipaldesjeunes@ville-poissy.fr\nRèglement intérieur du concours de dessin
URL:https://artnco.org/event/concours-de-dessin-pour-enfants/
LOCATION:Ville de Poissy\, Poissy\, Yvelines\, 78300\, France
CATEGORIES:Évènements Partenaires
ATTACH;FMTTYPE=image/jpeg:https://artnco.org/wp-content/uploads/2026/03/AffA3-Concours-Dessin.jpg
END:VEVENT
END:VCALENDAR