BEGIN:VCALENDAR
VERSION:2.0
PRODID:-//ArtˈnCo - ECPv6.13.2.1//NONSGML v1.0//EN
CALSCALE:GREGORIAN
METHOD:PUBLISH
X-WR-CALNAME:ArtˈnCo
X-ORIGINAL-URL:https://artnco.org
X-WR-CALDESC:Évènements pour ArtˈnCo
REFRESH-INTERVAL;VALUE=DURATION:PT1H
X-Robots-Tag:noindex
X-PUBLISHED-TTL:PT1H
BEGIN:VTIMEZONE
TZID:Europe/Paris
BEGIN:DAYLIGHT
TZOFFSETFROM:+0100
TZOFFSETTO:+0200
TZNAME:CEST
DTSTART:20250330T010000
END:DAYLIGHT
BEGIN:STANDARD
TZOFFSETFROM:+0200
TZOFFSETTO:+0100
TZNAME:CET
DTSTART:20251026T010000
END:STANDARD
END:VTIMEZONE
BEGIN:VEVENT
DTSTART;TZID=Europe/Paris:20251108T080000
DTEND;TZID=Europe/Paris:20251108T170000
DTSTAMP:20260424T104440
CREATED:20251021T130815Z
LAST-MODIFIED:20251103T141350Z
UID:15408-1762588800-1762621200@artnco.org
SUMMARY:Projet Street-Art à Poissy
DESCRIPTION:La ville de Poissy aimerait faire réaliser une fresque Street-Art près de la gare RER. Il s’agit du passage piéton sous les voies SNCF à la sortie Sud de la Gare et longeant la D30 (48°55’56.3″N 2°02’19.4″E) . L’espace disponible peut représenter jusqu’à 25×2.50m d’un côté et 15mx2.50m de l’autre côté. La surface est composée de mosaïque couverte par un enduit pour une part et d’un mur peint pour l’autre part.\nLe thème est libre. La réalisation pourrait intervenir entre décembre 2025 et février 2026.\nLa ville de Poissy aimerait recevoir plusieurs propositions émanant d’Art’nCo et comportant des esquisses de projet afin de faire un choix en novembre/décembre.\nSi vous êtes intéressé(e)\, prière de nous le faire savoir rapidement par mail à asso@artnco.org ou par téléphone au 06.07.54.10.87.\nLa sélection se fera initialement sur dossier avec les éléments suivants : \n\nIdentité et contacts de l’artiste (mail\, tel\, réseaux sociaux)\nPrésentation générale de l’artiste\nBook ou présentation de la production de l’artiste avec visuels\, événements notables\, distinctions …\nRéférences et illustrations de projets équivalents\nPropositions pour ce projet en particulier\nCharge de travail estimée
URL:https://artnco.org/event/projet-street-art-a-poissy/
LOCATION:Ville de Poissy\, Poissy\, Yvelines\, 78300\, France
CATEGORIES:Vie Associative
ATTACH;FMTTYPE=image/jpeg:https://artnco.org/wp-content/uploads/2025/10/Tunnel-Gare-RER-Poissy.jpg
END:VEVENT
END:VCALENDAR