BEGIN:VCALENDAR
VERSION:2.0
PRODID:-//ArtˈnCo - ECPv6.13.2.1//NONSGML v1.0//EN
CALSCALE:GREGORIAN
METHOD:PUBLISH
X-WR-CALNAME:ArtˈnCo
X-ORIGINAL-URL:https://artnco.org
X-WR-CALDESC:Évènements pour ArtˈnCo
REFRESH-INTERVAL;VALUE=DURATION:PT1H
X-Robots-Tag:noindex
X-PUBLISHED-TTL:PT1H
BEGIN:VTIMEZONE
TZID:Europe/Paris
BEGIN:DAYLIGHT
TZOFFSETFROM:+0100
TZOFFSETTO:+0200
TZNAME:CEST
DTSTART:20260329T010000
END:DAYLIGHT
BEGIN:STANDARD
TZOFFSETFROM:+0200
TZOFFSETTO:+0100
TZNAME:CET
DTSTART:20261025T010000
END:STANDARD
END:VTIMEZONE
BEGIN:VEVENT
DTSTART;VALUE=DATE:20260315
DTEND;VALUE=DATE:20260317
DTSTAMP:20260419T230303
CREATED:20260205T211334Z
LAST-MODIFIED:20260220T131410Z
UID:16779-1773561600-1773647999@artnco.org
SUMMARY:Appel à Artistes - Regards Croisés sur Hugo Ball & Ernest Meissonier
DESCRIPTION:Dans la continuité de notre collaboration avec l’association Kunstverein de Pirmasens (Allemagne)\, nous avons l’opportunité de monter une exposition qui proposerait un regard croisé sur deux artistes célèbres de Poissy et Pirmasens: Ernest Meissonier et Hugo Ball. \nLa proposition serait pour les artistes Art’nCo de proposer leur regard sur l’oeuvre de Hugo Ball\, les artistes Kunstverein Pirmasens réagissant pour leur part à l’oeuvre de Ernest Meissonier (1) . \nLa date de l’évènement reste à déterminer mais se tiendrait en 2027 à l’occasion du centenaire de la disparition de Hugo Ball. L’exposition se tiendrait à Pirmasens et Poissy. \nLes Artistes intéressé.e.s pour participer à la création de cet événement sont invités à nous contacter à asso@artnco.org. Nous organiserons ensuite une réunion/présentation sur cet événement avec les artistes candidats. \n(1) Les artistes Art’nCo qui souhaiteraient travailler sur Ernest Meissonier pourront le faire également  ______________________________________________________________________________________________________________ \nHugo Ball \nHugo Ball (1886 : Pirmasens -1927 : Gentilo ) est l’une des figures fondatrices du mouvement dada\, né à Zurich pendant la Première Guerre mondiale. Écrivain\, poète et performeur\, il cofonde en 1916 le Cabaret Voltaire\, lieu d’expérimentation radicale mêlant poésie sonore\, musique\, danse et provocation artistique. Son œuvre la plus marquante réside dans ses poèmes phonétiques (comme Karawane)\, qui rompent volontairement avec le sens\, la syntaxe et la logique du langage\, afin de dénoncer l’effondrement des valeurs rationnelles et culturelles ayant conduit à la guerre. \nBall rejette l’art traditionnel et la littérature engagée au profit d’une expression brute\, absurde et volontairement chaotique. Dans son journal La Fuite hors du temps\, il théorise Dada comme un geste de refus : refus de la guerre\, du nationalisme\, du rationalisme bourgeois et de la marchandisation de l’art. Après 1917\, il se retire progressivement de l’avant-garde\, se rapproche du catholicisme et adopte une posture plus spirituelle et critique vis-à-vis du nihilisme dadaïste. \nHugo Ball pose les bases de la performance artistique\, de la poésie sonore et de l’art conceptuel. Son héritage irrigue durablement les avant-gardes du XXᵉ siècle\, du surréalisme à Fluxus\, en affirmant que l’art peut être un acte de rupture radicale avec le monde établi. \nPublications disponibles en français \n\nTenderenda le fantasque – Hugo BallRécit satirique et allégorique où Ball met en scène la crise de l’artiste moderne\, entre dérision\, utopie dadaïste et critique des idéologies culturelles.\nDADA. Manifestes\, poèmes\, articles\, projets (1915–1930) – collectifRecueil fondamental des textes dadaïstes\, mêlant manifestes\, poésie et écrits théoriques\, témoignant d’un rejet radical de l’art traditionnel et du rationalisme.\nFlametti ou Du dandysme des pauvres – Hugo BallRoman inspiré du monde du cabaret zurichois\, décrivant la vie précaire d’artistes marginaux\, entre satire sociale\, bohème et désenchantement moderne.\n\n \nHugo Ball en costume cubiste lors de la performance de Karawane au Cabaret Voltaire (Zurich\, 1916) \n______________________________________________________________________________________________________________ \nErnest Meissonier  \nErnest Meissonier (1815 : Lyon -1891 : Paris) est un peintre français du XIXᵉ siècle\, célèbre pour ses scènes militaires et historiques d’un grand souci du détail. Maître du réalisme minutieux\, il privilégie une exécution précise et une reconstitution rigoureuse des uniformes\, gestes et attitudes. Très reconnu de son vivant\, notamment pour ses représentations napoléoniennes\, Meissonier incarne une peinture académique virtuose\, aujourd’hui réévaluée pour sa qualité technique et son sens aigu de l’observation. \n \nCampagne de France\, 1814 (titre alternatif 1814)\, tableau peint par Ernest Meissonier entre 1860 et 1864.
URL:https://artnco.org/event/appel-a-artistes-regards-croises-sur-hugo-ball-ernest-meissonier/
LOCATION:Forum Alte Post\, Poststraße 2\, Pirmasens\, 66954\, Germany
CATEGORIES:Vie Associative
ATTACH;FMTTYPE=image/jpeg:https://artnco.org/wp-content/uploads/2026/02/Hugo_Ball_Cabaret_Voltaire.jpg
END:VEVENT
END:VCALENDAR