BEGIN:VCALENDAR
VERSION:2.0
PRODID:-//ArtˈnCo - ECPv6.13.2.1//NONSGML v1.0//EN
CALSCALE:GREGORIAN
METHOD:PUBLISH
X-WR-CALNAME:ArtˈnCo
X-ORIGINAL-URL:https://artnco.org
X-WR-CALDESC:Évènements pour ArtˈnCo
REFRESH-INTERVAL;VALUE=DURATION:PT1H
X-Robots-Tag:noindex
X-PUBLISHED-TTL:PT1H
BEGIN:VTIMEZONE
TZID:Europe/Paris
BEGIN:DAYLIGHT
TZOFFSETFROM:+0100
TZOFFSETTO:+0200
TZNAME:CEST
DTSTART:20250330T010000
END:DAYLIGHT
BEGIN:STANDARD
TZOFFSETFROM:+0200
TZOFFSETTO:+0100
TZNAME:CET
DTSTART:20251026T010000
END:STANDARD
END:VTIMEZONE
BEGIN:VEVENT
DTSTART;TZID=Europe/Paris:20251206T190000
DTEND;TZID=Europe/Paris:20251206T210000
DTSTAMP:20260424T140738
CREATED:20251013T161640Z
LAST-MODIFIED:20251203T161831Z
UID:15305-1765047600-1765054800@artnco.org
SUMMARY:Assemblée Générale Art'nCo - Samedi 6 décembre à Poissy !
DESCRIPTION:L’Ordre du jour de l’Assemblée comprend  : \n\nRapport moral du président\nRapport Financier du trésorier\nApprobation du rapport moral et du rapport financier (2 votes)\nRenouvellement d’une partie du conseil d’administration (C.A) (Voir la composition actuelle du C.A).\nLes personnes qui souhaitent se porter candidates peuvent le faire par mail à asso@artnco.org ou en séance lors de l’A.G.\n\n\nQuestions diverses\n\nNos statuts prévoient que\, pour se tenir valablement\, 1/3 des membres doivent être présents ou représentés à l’Assemblée Générale.\nAfin de permettre sa tenue\, vous pouvez confirmer votre participation ou désigner un.e représentant.e en remplissant ce rapide questionnaire\nMerci ! \nL’assemblée sera suivie d’un moment de convivialité autour d’une auberge espagnole.
URL:https://artnco.org/event/assemblee-generale-artnco-3/
LOCATION:30 Av. Meissonier\, 30 Av. Meissonier\, Poissy\, 78300
CATEGORIES:Vie Associative
ORGANIZER;CN="Art'nCo":MAILTO:contact@artnco.org
END:VEVENT
END:VCALENDAR